Workbook

Sheet 价格表
A1: 附件4-1
A2: 益阳市一般治疗类医疗服务项目价格表（征求意见稿）
A3: 序号 | B3: 国家项目代码 | C3: 立项指南项目名称 | D3: 服务 产出 | E3: 价格 构成 | F3: 加收项 | G3: 扩展项 | H3: 计价 单位 | I3: 计价 说明 | J3: 一类价格 | K3: 二类一档价格 | L3: 二类二档价格 | M3: 三类价格 | N3: 基层价格 | O3: 支付分类 | P3: 自付比例
J4: 价格单位：元
A5: 1 | B5: 011203000010000 | C5: 采血费（末梢） | D5: 通过末梢采集血液。 | E5: 所定价格涵盖核对信息、评估、定位、消毒、穿刺、采血、拔针、按压、血样保存、送检、处理用物等步骤所需的人力资源和基本物质资源消耗。 | H5: 次 | I5: 1.本项目所称的“次”指：一次完整成功的采血过程。 2.本项目所称的“末梢”指：指尖、耳尖、足跟等。 | J5: 3 | K5: =VLOOKUP(B5,[1]附件一!$B:$M,12,FALSE) -> 3 | L5: =VLOOKUP(B5,[1]附件一!$B:$N,13,FALSE) -> 3 | M5: =VLOOKUP(B5,[1]附件一!$B:$O,14,FALSE) -> 3 | N5: =VLOOKUP(B5,[1]附件一!$B:$P,15,FALSE) -> 3 | O5: 甲类 | P5: 0
A6: 2 | B6: 011203000020000 | C6: 采血费（静脉） | D6: 通过静脉采集血液。 | E6: 所定价格涵盖核对信息、评估、定位、消毒、穿刺、采血、拔针、按压、血样保存、送检、处理用物等步骤所需的人力资源和基本物质资源消耗。 | F6: 01儿童加收 | H6: 次 | I6: 本项目所称的“次”指：一次完整成功的采血过程。 | J6: =VLOOKUP(B6,[1]附件一!$B:$L,11,FALSE) -> 6 | K6: =VLOOKUP(B6,[1]附件一!$B:$M,12,FALSE) -> 6 | L6: =VLOOKUP(B6,[1]附件一!$B:$N,13,FALSE) -> 6 | M6: =VLOOKUP(B6,[1]附件一!$B:$O,14,FALSE) -> 6 | N6: =VLOOKUP(B6,[1]附件一!$B:$P,15,FALSE) -> 6 | O6: 甲类 | P6: 0
B7: 011203000020001 | C7: 采血费（静脉）-儿童（加收） | J7: =VLOOKUP(B7,[1]附件一!$B:$L,11,FALSE) -> 2 | K7: =VLOOKUP(B7,[1]附件一!$B:$M,12,FALSE) -> 2 | L7: =VLOOKUP(B7,[1]附件一!$B:$N,13,FALSE) -> 2 | M7: =VLOOKUP(B7,[1]附件一!$B:$O,14,FALSE) -> 2 | N7: =VLOOKUP(B7,[1]附件一!$B:$P,15,FALSE) -> 2
A8: 3 | B8: 011203000030000 | C8: 采血费（动脉） | D8: 通过动脉采集血液。 | E8: 所定价格涵盖核对信息、评估、定位、消毒、穿刺、采血、拔针、按压、血样保存、送检、处理用物等步骤所需的人力资源和基本物质资源消耗。 | F8: 01儿童加收 | H8: 次 | I8: 本项目所称的“次”指：一次完整成功的采血过程。 | J8: =VLOOKUP(B8,[1]附件一!$B:$L,11,FALSE) -> 18 | K8: =VLOOKUP(B8,[1]附件一!$B:$M,12,FALSE) -> 18 | L8: =VLOOKUP(B8,[1]附件一!$B:$N,13,FALSE) -> 18 | M8: =VLOOKUP(B8,[1]附件一!$B:$O,14,FALSE) -> 18 | N8: =VLOOKUP(B8,[1]附件一!$B:$P,15,FALSE) -> 18 | O8: 甲类 | P8: 0
B9: 011203000030001 | C9: 采血费（动脉）-儿童（加收） | J9: =VLOOKUP(B9,[1]附件一!$B:$L,11,FALSE) -> 5 | K9: =VLOOKUP(B9,[1]附件一!$B:$M,12,FALSE) -> 5 | L9: =VLOOKUP(B9,[1]附件一!$B:$N,13,FALSE) -> 5 | M9: =VLOOKUP(B9,[1]附件一!$B:$O,14,FALSE) -> 5 | N9: =VLOOKUP(B9,[1]附件一!$B:$P,15,FALSE) -> 5
A10: 4 | B10: 011202000010000 | C10: 注射费（普通注射） | D10: 通过肌肉、皮内、皮下注射方式，完成液体注入。 | E10: 所定价格涵盖核对信息、评估、配制、定位、消毒、注射、拔针、按压、观察用药反应、记录、处理用物等步骤所需的人力资源和基本物质资源消耗。 | F10: 01儿童加收 | H10: 次 | I10: 每完成一次完整成功的注射操作，可计费一次。 | J10: =VLOOKUP(B10,[1]附件一!$B:$L,11,FALSE) -> 6 | K10: =VLOOKUP(B10,[1]附件一!$B:$M,12,FALSE) -> 6 | L10: =VLOOKUP(B10,[1]附件一!$B:$N,13,FALSE) -> 6 | M10: =VLOOKUP(B10,[1]附件一!$B:$O,14,FALSE) -> 6 | N10: =VLOOKUP(B10,[1]附件一!$B:$P,15,FALSE) -> 6 | O10: 甲类 | P10: 0
B11: 011202000010001 | C11: 注射费（普通注射）-儿童（加收） | J11: =VLOOKUP(B11,[1]附件一!$B:$L,11,FALSE) -> 2 | K11: =VLOOKUP(B11,[1]附件一!$B:$M,12,FALSE) -> 2 | L11: =VLOOKUP(B11,[1]附件一!$B:$N,13,FALSE) -> 2 | M11: =VLOOKUP(B11,[1]附件一!$B:$O,14,FALSE) -> 2 | N11: =VLOOKUP(B11,[1]附件一!$B:$P,15,FALSE) -> 2
A12: 5 | B12: 011202000020000 | C12: 注射费（静脉推注） | D12: 通过静脉通路完成液体推注。 | E12: 所定价格涵盖核对信息、评估、配制、定位、消毒、穿刺或连接已有管路/给药装置、推注、拔针、按压或冲管/封管、观察用药反应、记录、处理用物以及必要时加注药液等步骤所需的人力资源和基本物质资源消耗。 | F12: 01儿童加收 11精准定量输注 | H12: 次 | I12: 1.每完成一次完整成功的注射操作，可计费一次。经多次穿刺构建不同通路的，可累计计费。 2.本项目所称的“精准定量输注”指：通过输液泵等装置将药液精确定量控制注入患者体内。按每组每小时2元加收。 3.已在外周静脉、深静脉、中心静脉、药物输注装置等建立输液通路的，再次进行注射的，可直接按此收费。 | J12: =VLOOKUP(B12,[1]附件一!$B:$L,11,FALSE) -> 8 | K12: =VLOOKUP(B12,[1]附件一!$B:$M,12,FALSE) -> 8 | L12: =VLOOKUP(B12,[1]附件一!$B:$N,13,FALSE) -> 8 | M12: =VLOOKUP(B12,[1]附件一!$B:$O,14,FALSE) -> 8 | N12: =VLOOKUP(B12,[1]附件一!$B:$P,15,FALSE) -> 8 | O12: 甲类 | P12: 0
B13: 011202000020001 | C13: 注射费（静脉推注）-儿童（加收） | J13: =VLOOKUP(B13,[1]附件一!$B:$L,11,FALSE) -> 2 | K13: =VLOOKUP(B13,[1]附件一!$B:$M,12,FALSE) -> 2 | L13: =VLOOKUP(B13,[1]附件一!$B:$N,13,FALSE) -> 2 | M13: =VLOOKUP(B13,[1]附件一!$B:$O,14,FALSE) -> 2 | N13: =VLOOKUP(B13,[1]附件一!$B:$P,15,FALSE) -> 2
B14: 011202000020011 | C14: 注射费（静脉推注）-精准定量输注（加收） | J14: =VLOOKUP(B14,[1]附件一!$B:$L,11,FALSE) -> 2 | K14: =VLOOKUP(B14,[1]附件一!$B:$M,12,FALSE) -> 2 | L14: =VLOOKUP(B14,[1]附件一!$B:$N,13,FALSE) -> 2 | M14: =VLOOKUP(B14,[1]附件一!$B:$O,14,FALSE) -> 2 | N14: =VLOOKUP(B14,[1]附件一!$B:$P,15,FALSE) -> 2
A15: 6 | B15: 011202000030000 | C15: 注射费（动脉推注） | D15: 通过动脉通路完成液体推注。 | E15: 所定价格涵盖核对信息、评估、配制、定位、消毒、穿刺或连接已有管路/给药装置、推注、拔针、按压或冲管/封管、观察用药反应、记录、处理用物以及必要时加注药液等步骤所需的人力资源和基本物质资源消耗。 | F15: 01儿童加收 | H15: 次 | I15: 每完成一次完整成功的注射操作，可计费一次。经多次穿刺构建不同通路的，可累计计费。 | J15: =VLOOKUP(B15,[1]附件一!$B:$L,11,FALSE) -> 18 | K15: =VLOOKUP(B15,[1]附件一!$B:$M,12,FALSE) -> 18 | L15: =VLOOKUP(B15,[1]附件一!$B:$N,13,FALSE) -> 18 | M15: =VLOOKUP(B15,[1]附件一!$B:$O,14,FALSE) -> 18 | N15: =VLOOKUP(B15,[1]附件一!$B:$P,15,FALSE) -> 18 | O15: 甲类 | P15: 0
B16: 011202000030001 | C16: 注射费（动脉推注）-儿童（加收） | J16: =VLOOKUP(B16,[1]附件一!$B:$L,11,FALSE) -> 5 | K16: =VLOOKUP(B16,[1]附件一!$B:$M,12,FALSE) -> 5 | L16: =VLOOKUP(B16,[1]附件一!$B:$N,13,FALSE) -> 5 | M16: =VLOOKUP(B16,[1]附件一!$B:$O,14,FALSE) -> 5 | N16: =VLOOKUP(B16,[1]附件一!$B:$P,15,FALSE) -> 5
A17: 7 | B17: 011202000040000 | C17: 注射费（静脉输液） | D17: 通过静脉通路完成液体输注。 | E17: 所定价格涵盖核对信息、评估、配制、连接输液器、定位、消毒、排气、穿刺、固定、滴注、拔针、按压或冲管/封管、观察用药反应、记录、处理用物，以及必要时加温、加压输注或加注药液等步骤所需的人力资源和基本物质资源消耗。 | F17: 01儿童加收 11精准定量输注 | H17: 次 | I17: 1.如在静脉输液过程中，通过在管路或者容器中注药，不得另外收取各类“注射费”。 2.每完成一次完整的注射操作，可计费一次。经多次穿刺构建不同通路的，可累计计费。 3.已在外周静脉、深静脉、中心静脉、药物输注装置等建立输液通路的，再次进行注射的，可直接按此收费。 4.本项目所称的“精准定量输注”指：通过输液泵等装置将药液精确定量控制注入患者体内。按每组每小时2元加收。 | J17: =VLOOKUP(B17,[1]附件一!$B:$L,11,FALSE) -> 14 | K17: =VLOOKUP(B17,[1]附件一!$B:$M,12,FALSE) -> 14 | L17: =VLOOKUP(B17,[1]附件一!$B:$N,13,FALSE) -> 14 | M17: =VLOOKUP(B17,[1]附件一!$B:$O,14,FALSE) -> 14 | N17: =VLOOKUP(B17,[1]附件一!$B:$P,15,FALSE) -> 14 | O17: 甲类 | P17: 0
B18: 011202000040001 | C18: 注射费（静脉输液）-儿童（加收） | J18: =VLOOKUP(B18,[1]附件一!$B:$L,11,FALSE) -> 4 | K18: =VLOOKUP(B18,[1]附件一!$B:$M,12,FALSE) -> 4 | L18: =VLOOKUP(B18,[1]附件一!$B:$N,13,FALSE) -> 4 | M18: =VLOOKUP(B18,[1]附件一!$B:$O,14,FALSE) -> 4 | N18: =VLOOKUP(B18,[1]附件一!$B:$P,15,FALSE) -> 4
B19: 011202000040011 | C19: 注射费（静脉输液）-精准定量输注（加收） | J19: =VLOOKUP(B19,[1]附件一!$B:$L,11,FALSE) -> 2 | K19: =VLOOKUP(B19,[1]附件一!$B:$M,12,FALSE) -> 2 | L19: =VLOOKUP(B19,[1]附件一!$B:$N,13,FALSE) -> 2 | M19: =VLOOKUP(B19,[1]附件一!$B:$O,14,FALSE) -> 2 | N19: =VLOOKUP(B19,[1]附件一!$B:$P,15,FALSE) -> 2
A20: 8 | B20: 011202000050000 | C20: 注射费（静脉输血） | D20: 通过静脉通路完成各类血制品输注。 | E20: 所定价格涵盖核对信息、评估、连接输血器、定位、消毒、排气、穿刺、固定、输注、拔针、按压或冲管/封管、观察输血反应、记录、处理用物，以及必要时加温、加压输注或加注血制品等步骤所需的人力资源和基本物质资源消耗。 | F20: 01儿童加收 | H20: 次 | I20: 1.每完成一次（每袋血制品）完整的注射操作，可计费一次。经多次穿刺构建不同通路的，可累计计费。 2.已在外周静脉、深静脉、中心静脉、药物输注装置等建立输血通路的，再次进行输血的，可直接按此收费。 | J20: =VLOOKUP(B20,[1]附件一!$B:$L,11,FALSE) -> 9 | K20: =VLOOKUP(B20,[1]附件一!$B:$M,12,FALSE) -> 9 | L20: =VLOOKUP(B20,[1]附件一!$B:$N,13,FALSE) -> 9 | M20: =VLOOKUP(B20,[1]附件一!$B:$O,14,FALSE) -> 9 | N20: =VLOOKUP(B20,[1]附件一!$B:$P,15,FALSE) -> 9 | O20: 甲类 | P20: 0
B21: 011202000050001 | C21: 注射费（静脉输血）-儿童（加收） | J21: =VLOOKUP(B21,[1]附件一!$B:$L,11,FALSE) -> 3 | K21: =VLOOKUP(B21,[1]附件一!$B:$M,12,FALSE) -> 3 | L21: =VLOOKUP(B21,[1]附件一!$B:$N,13,FALSE) -> 3 | M21: =VLOOKUP(B21,[1]附件一!$B:$O,14,FALSE) -> 3 | N21: =VLOOKUP(B21,[1]附件一!$B:$P,15,FALSE) -> 3
A22: 9 | B22: 011202000060000 | C22: 注射费（心内注射） | D22: 通过经皮穿刺向心脏内注射药物。 | E22: 所定价格涵盖核对信息、评估、配制、定位、消毒、穿刺、注射、拔针、按压或冲管/封管、观察用药反应、记录、处理用物等步骤所需的人力资源和基本物质资源消耗。 | F22: 01儿童加收 | H22: 次 | I22: 每完成一次完整成功的注射操作，可计费一次。 | J22: =VLOOKUP(B22,[1]附件一!$B:$L,11,FALSE) -> 27 | K22: =VLOOKUP(B22,[1]附件一!$B:$M,12,FALSE) -> 27 | L22: =VLOOKUP(B22,[1]附件一!$B:$N,13,FALSE) -> 27 | M22: =VLOOKUP(B22,[1]附件一!$B:$O,14,FALSE) -> 27 | N22: =VLOOKUP(B22,[1]附件一!$B:$P,15,FALSE) -> 27 | O22: 甲类 | P22: 0
B23: 011202000060001 | C23: 注射费（心内注射）-儿童（加收） | J23: =VLOOKUP(B23,[1]附件一!$B:$L,11,FALSE) -> 8 | K23: =VLOOKUP(B23,[1]附件一!$B:$M,12,FALSE) -> 8 | L23: =VLOOKUP(B23,[1]附件一!$B:$N,13,FALSE) -> 8 | M23: =VLOOKUP(B23,[1]附件一!$B:$O,14,FALSE) -> 8 | N23: =VLOOKUP(B23,[1]附件一!$B:$P,15,FALSE) -> 8
A24: 10 | B24: 011202000070000 | C24: 注射费（局部封闭） | D24: 通过在病灶周围多次注射，消除炎症、解除疼痛、软化瘢痕、改善功能或预防感染。 | E24: 所定价格涵盖核对信息、评估、配制、定位、消毒、反复穿刺、注射、拔针、按压、观察用药反应、处理用物等步骤所需的人力资源和基本物质资源消耗。 | F24: 01儿童加收 | G24: 01局部浸润注射 | H24: 次 | I24: 本项目所称的“次”指：完成单个部位完整的局部封闭治疗。 | J24: =VLOOKUP(B24,[1]附件一!$B:$L,11,FALSE) -> 32 | K24: =VLOOKUP(B24,[1]附件一!$B:$M,12,FALSE) -> 32 | L24: =VLOOKUP(B24,[1]附件一!$B:$N,13,FALSE) -> 32 | M24: =VLOOKUP(B24,[1]附件一!$B:$O,14,FALSE) -> 32 | N24: =VLOOKUP(B24,[1]附件一!$B:$P,15,FALSE) -> 32 | O24: 甲类 | P24: 0
B25: 011202000070001 | C25: 注射费（局部封闭）-儿童（加收） | J25: =VLOOKUP(B25,[1]附件一!$B:$L,11,FALSE) -> 10 | K25: =VLOOKUP(B25,[1]附件一!$B:$M,12,FALSE) -> 10 | L25: =VLOOKUP(B25,[1]附件一!$B:$N,13,FALSE) -> 10 | M25: =VLOOKUP(B25,[1]附件一!$B:$O,14,FALSE) -> 10 | N25: =VLOOKUP(B25,[1]附件一!$B:$P,15,FALSE) -> 10
B26: 011202000070100 | C26: 注射费（局部封闭）-局部浸润注射（加收） | J26: =VLOOKUP(B26,[1]附件一!$B:$L,11,FALSE) -> 32 | K26: =VLOOKUP(B26,[1]附件一!$B:$M,12,FALSE) -> 32 | L26: =VLOOKUP(B26,[1]附件一!$B:$N,13,FALSE) -> 32 | M26: =VLOOKUP(B26,[1]附件一!$B:$O,14,FALSE) -> 32 | N26: =VLOOKUP(B26,[1]附件一!$B:$P,15,FALSE) -> 32
A27: 11 | B27: 011205000010000 | C27: 清创缝合费（小） | D27: 清理小伤口创面，必要时进行缝合，促进创面修复。 | E27: 所定价格涵盖检查伤口、清除组织血肿、冲洗、消毒、包扎固定，必要时缝合、引流等步骤所需的人力资源和基本物质资源消耗。 | F27: 01儿童加收 11累及重要器官及功能部位 | H27: 次 | I27: 本项目所称的“清创缝合费（小）”指符合下列任一情况者：表浅切伤，裂伤，刺伤，伤口长度1-5厘米(含5厘米)，或急慢性创面直径或长度1-2厘米(含2厘米)等。 | J27: =VLOOKUP(B27,[1]附件一!$B:$L,11,FALSE) -> 54 | K27: =VLOOKUP(B27,[1]附件一!$B:$M,12,FALSE) -> 54 | L27: =VLOOKUP(B27,[1]附件一!$B:$N,13,FALSE) -> 54 | M27: =VLOOKUP(B27,[1]附件一!$B:$O,14,FALSE) -> 54 | N27: =VLOOKUP(B27,[1]附件一!$B:$P,15,FALSE) -> 54 | O27: 甲类 | P27: 0
B28: 011205000010001 | C28: 清创缝合费（小）-儿童（加收） | J28: =VLOOKUP(B28,[1]附件一!$B:$L,11,FALSE) -> 16 | K28: =VLOOKUP(B28,[1]附件一!$B:$M,12,FALSE) -> 16 | L28: =VLOOKUP(B28,[1]附件一!$B:$N,13,FALSE) -> 16 | M28: =VLOOKUP(B28,[1]附件一!$B:$O,14,FALSE) -> 16 | N28: =VLOOKUP(B28,[1]附件一!$B:$P,15,FALSE) -> 16
B29: 011205000010011 | C29: 清创缝合费（小）-累及重要器官及功能部位（加收） | J29: =VLOOKUP(B29,[1]附件一!$B:$L,11,FALSE) -> 16 | K29: =VLOOKUP(B29,[1]附件一!$B:$M,12,FALSE) -> 16 | L29: =VLOOKUP(B29,[1]附件一!$B:$N,13,FALSE) -> 16 | M29: =VLOOKUP(B29,[1]附件一!$B:$O,14,FALSE) -> 16 | N29: =VLOOKUP(B29,[1]附件一!$B:$P,15,FALSE) -> 16
A30: 12 | B30: 011205000020000 | C30: 清创缝合费（中） | D30: 清理中等伤口创面，必要时进行缝合，促进创面修复。 | E30: 所定价格涵盖检查伤口、清除组织血肿、冲洗、消毒、包扎固定，必要时缝合、引流等步骤所需的人力资源和基本物质资源消耗。 | F30: 01儿童加收 11累及重要器官及功能部位 21肠瘘伤口清创 | H30: 次 | I30: 本项目所称的“清创缝合费（中）”指符合下列任一情况者：轻微污染伤口，软组织轻度损伤，皮肤轻度损伤或缺损，异物存在，伤口长度5-10厘米、急慢性创面直径或长度2厘米-5厘米(含5厘米)等。 | J30: =VLOOKUP(B30,[1]附件一!$B:$L,11,FALSE) -> 122 | K30: =VLOOKUP(B30,[1]附件一!$B:$M,12,FALSE) -> 122 | L30: =VLOOKUP(B30,[1]附件一!$B:$N,13,FALSE) -> 122 | M30: =VLOOKUP(B30,[1]附件一!$B:$O,14,FALSE) -> 122 | N30: =VLOOKUP(B30,[1]附件一!$B:$P,15,FALSE) -> 122 | O30: 甲类 | P30: 0
B31: 011205000020001 | C31: 清创缝合费（中）-儿童（加收） | J31: =VLOOKUP(B31,[1]附件一!$B:$L,11,FALSE) -> 37 | K31: =VLOOKUP(B31,[1]附件一!$B:$M,12,FALSE) -> 37 | L31: =VLOOKUP(B31,[1]附件一!$B:$N,13,FALSE) -> 37 | M31: =VLOOKUP(B31,[1]附件一!$B:$O,14,FALSE) -> 37 | N31: =VLOOKUP(B31,[1]附件一!$B:$P,15,FALSE) -> 37
B32: 011205000020011 | C32: 清创缝合费（中）-累及重要器官及功能部位（加收） | J32: =VLOOKUP(B32,[1]附件一!$B:$L,11,FALSE) -> 37 | K32: =VLOOKUP(B32,[1]附件一!$B:$M,12,FALSE) -> 37 | L32: =VLOOKUP(B32,[1]附件一!$B:$N,13,FALSE) -> 37 | M32: =VLOOKUP(B32,[1]附件一!$B:$O,14,FALSE) -> 37 | N32: =VLOOKUP(B32,[1]附件一!$B:$P,15,FALSE) -> 37
B33: 011205000020021 | C33: 清创缝合费（中）-肠瘘伤口清创（加收） | J33: =VLOOKUP(B33,[1]附件一!$B:$L,11,FALSE) -> 37 | K33: =VLOOKUP(B33,[1]附件一!$B:$M,12,FALSE) -> 37 | L33: =VLOOKUP(B33,[1]附件一!$B:$N,13,FALSE) -> 37 | M33: =VLOOKUP(B33,[1]附件一!$B:$O,14,FALSE) -> 37 | N33: =VLOOKUP(B33,[1]附件一!$B:$P,15,FALSE) -> 37
A34: 13 | B34: 011205000030000 | C34: 清创缝合费（大） | D34: 清理大伤口创面，必要时进行缝合，促进创面修复。 | E34: 所定价格涵盖检查伤口、清除组织血肿、冲洗、消毒、包扎固定，必要时缝合、引流等步骤所需的人力资源和基本物质资源消耗。 | F34: 01儿童加收 11累及重要器官及功能部位 21肠瘘伤口清创 | H34: 次 | I34: 本项目所称的“清创缝合费（大）”指伤口长度大于10厘米并符合下列任一情况者：严重污染伤口，软组织严重损伤，皮肤严重损伤或缺损，特殊感染伤口，二期清创，多发异物伤口，血管、神经、肌肉、骨骼、关节严重损伤伤口，化学武器创口等。 | J34: =VLOOKUP(B34,[1]附件一!$B:$L,11,FALSE) -> 216 | K34: =VLOOKUP(B34,[1]附件一!$B:$M,12,FALSE) -> 216 | L34: =VLOOKUP(B34,[1]附件一!$B:$N,13,FALSE) -> 216 | M34: =VLOOKUP(B34,[1]附件一!$B:$O,14,FALSE) -> 216 | N34: =VLOOKUP(B34,[1]附件一!$B:$P,15,FALSE) -> 216 | O34: 甲类 | P34: 0
B35: 011205000030001 | C35: 清创缝合费（大）-儿童（加收） | J35: =VLOOKUP(B35,[1]附件一!$B:$L,11,FALSE) -> 65 | K35: =VLOOKUP(B35,[1]附件一!$B:$M,12,FALSE) -> 65 | L35: =VLOOKUP(B35,[1]附件一!$B:$N,13,FALSE) -> 65 | M35: =VLOOKUP(B35,[1]附件一!$B:$O,14,FALSE) -> 65 | N35: =VLOOKUP(B35,[1]附件一!$B:$P,15,FALSE) -> 65
B36: 011205000030011 | C36: 清创缝合费（大）-累及重要器官及功能部位（加收） | J36: =VLOOKUP(B36,[1]附件一!$B:$L,11,FALSE) -> 65 | K36: =VLOOKUP(B36,[1]附件一!$B:$M,12,FALSE) -> 65 | L36: =VLOOKUP(B36,[1]附件一!$B:$N,13,FALSE) -> 65 | M36: =VLOOKUP(B36,[1]附件一!$B:$O,14,FALSE) -> 65 | N36: =VLOOKUP(B36,[1]附件一!$B:$P,15,FALSE) -> 65
B37: 011205000030021 | C37: 清创缝合费（大）-肠瘘伤口清创（加收） | J37: =VLOOKUP(B37,[1]附件一!$B:$L,11,FALSE) -> 65 | K37: =VLOOKUP(B37,[1]附件一!$B:$M,12,FALSE) -> 65 | L37: =VLOOKUP(B37,[1]附件一!$B:$N,13,FALSE) -> 65 | M37: =VLOOKUP(B37,[1]附件一!$B:$O,14,FALSE) -> 65 | N37: =VLOOKUP(B37,[1]附件一!$B:$P,15,FALSE) -> 65
A38: 14 | B38: 011205000040000 | C38: 清创缝合费（特大） | D38: 清理特大伤口创面，必要时进行缝合，促进创面修复。 | E38: 所定价格涵盖检查伤口、清除组织血肿、冲洗、消毒、包扎固定，必要时缝合、引流等步骤所需的人力资源和基本物质资源消耗。 | F38: 01儿童加收 11累及重要器官及功能部位 | H38: 次 | I38: 本项目所称的“清创缝合费（特大）”指伤口面积大于100平方厘米或伤口长度大于20厘米或涉及腹壁深层感染和腹腔脏器损伤，并符合以下任一情况者：严重污染伤口、软组织严重损伤、皮肤严重损伤或缺损、特殊感染伤口、感染性窦道、二期或多期清创、多发异物伤口、血管、神经、肌肉、骨骼、关节严重损伤伤口，化学武器创口。 | J38: =VLOOKUP(B38,[1]附件一!$B:$L,11,FALSE) -> 270 | K38: =VLOOKUP(B38,[1]附件一!$B:$M,12,FALSE) -> 270 | L38: =VLOOKUP(B38,[1]附件一!$B:$N,13,FALSE) -> 270 | M38: =VLOOKUP(B38,[1]附件一!$B:$O,14,FALSE) -> 270 | N38: =VLOOKUP(B38,[1]附件一!$B:$P,15,FALSE) -> 270 | O38: 甲类 | P38: 0
B39: 011205000040001 | C39: 清创缝合费（特大）-儿童（加收） | J39: =VLOOKUP(B39,[1]附件一!$B:$L,11,FALSE) -> 81 | K39: =VLOOKUP(B39,[1]附件一!$B:$M,12,FALSE) -> 81 | L39: =VLOOKUP(B39,[1]附件一!$B:$N,13,FALSE) -> 81 | M39: =VLOOKUP(B39,[1]附件一!$B:$O,14,FALSE) -> 81 | N39: =VLOOKUP(B39,[1]附件一!$B:$P,15,FALSE) -> 81
B40: 011205000040011 | C40: 清创缝合费（特大）-累及重要器官及功能部位（加收） | J40: =VLOOKUP(B40,[1]附件一!$B:$L,11,FALSE) -> 81 | K40: =VLOOKUP(B40,[1]附件一!$B:$M,12,FALSE) -> 81 | L40: =VLOOKUP(B40,[1]附件一!$B:$N,13,FALSE) -> 81 | M40: =VLOOKUP(B40,[1]附件一!$B:$O,14,FALSE) -> 81 | N40: =VLOOKUP(B40,[1]附件一!$B:$P,15,FALSE) -> 81
...
