Workbook

Sheet 废止表
A1: 附件2-2
A2: 益阳市消化系统类医疗服务价格项目废止表（征求意见稿）
A3: 序号 | B3: 财务分类代码 | C3: 国家项目代码 | D3: 国家项目 名称 | E3: 地方项目代码 | F3: 地方项目名称 | G3: 地方项目内涵 （或章节说明） | H3: 除外内容 | I3: 计价 单位 | J3: 计价说明 | K3: 一类价格（元） | L3: 二类一档价格（元） | M3: 二类二档价格（元） | N3: 三类价格（元） | O3: 基层价格（元）
A4: 1 | B4: D | C4: 003109020020000 | D4: 24小时动态胃酸监测 | E4: 310902002 | F4: 24小时动态胃酸监测 | G4: 含酸监测或碱监测 | I4: 次 | K4: =_xlfn.XLOOKUP(E4,[1]测算表!AA:AA,[1]测算表!AG:AG,,0,1) -> 360 | L4: =_xlfn.XLOOKUP(E4,[1]测算表!AA:AA,[1]测算表!AH:AH,,0,1) -> 323 | M4: =_xlfn.XLOOKUP(E4,[1]测算表!AA:AA,[1]测算表!AI:AI,,0,1) -> 305 | N4: =_xlfn.XLOOKUP(E4,[1]测算表!AA:AA,[1]测算表!AJ:AJ,,0,1) -> 274 | O4: =_xlfn.XLOOKUP(E4,[1]测算表!AA:AA,[1]测算表!AK:AK,,0,1) -> 218
A5: 2 | B5: D | C5: 003109040020000 | D5: 肛门直肠测压 | E5: 310904002 | F5: 肛门直肠测压 | G5: 含直肠5-10cm置气囊、肛门内括约肌置气囊、直肠气囊充气加压、扫描计录曲线、内括约肌松弛反射、肛门内括约肌长度、最大缩窄压、最大耐宽量、最小感应阈测定 | I5: 次 | K5: =_xlfn.XLOOKUP(E5,[1]测算表!AA:AA,[1]测算表!AG:AG,,0,1) -> 120 | L5: =_xlfn.XLOOKUP(E5,[1]测算表!AA:AA,[1]测算表!AH:AH,,0,1) -> 107 | M5: =_xlfn.XLOOKUP(E5,[1]测算表!AA:AA,[1]测算表!AI:AI,,0,1) -> 102 | N5: =_xlfn.XLOOKUP(E5,[1]测算表!AA:AA,[1]测算表!AJ:AJ,,0,1) -> 91 | O5: =_xlfn.XLOOKUP(E5,[1]测算表!AA:AA,[1]测算表!AK:AK,,0,1) -> 72
A6: 3 | B6: D | C6: 003109010010000 | D6: 食管测压 | E6: 310901001 | F6: 食管测压 | G6: 含上、下食管括约肌压力测定、食管蠕动测定、食管及括约肌长度测定、药物激发试验、打印报告；不含动态压力监测。 | I6: 次 | J6: 以全部食管测压计价，部分测压或婴儿吸吮功能检查（含动态监测吸吮压力、吸吮持续时间、吸吮节律、吸吮脉冲数量）减收50%。 | K6: =_xlfn.XLOOKUP(E6,[1]测算表!AA:AA,[1]测算表!AG:AG,,0,1) -> 240 | L6: =_xlfn.XLOOKUP(E6,[1]测算表!AA:AA,[1]测算表!AH:AH,,0,1) -> 215 | M6: =_xlfn.XLOOKUP(E6,[1]测算表!AA:AA,[1]测算表!AI:AI,,0,1) -> 203 | N6: =_xlfn.XLOOKUP(E6,[1]测算表!AA:AA,[1]测算表!AJ:AJ,,0,1) -> 182 | O6: =_xlfn.XLOOKUP(E6,[1]测算表!AA:AA,[1]测算表!AK:AK,,0,1) -> 145
A7: 4 | B7: D | C7: 003109020040000 | D7: 24小时胃肠压力测定 | E7: 310902004 | F7: 24小时胃肠压力测定 | I7: 次 | K7: =_xlfn.XLOOKUP(E7,[1]测算表!AA:AA,[1]测算表!AG:AG,,0,1) -> 247 | L7: =_xlfn.XLOOKUP(E7,[1]测算表!AA:AA,[1]测算表!AH:AH,,0,1) -> 222 | M7: =_xlfn.XLOOKUP(E7,[1]测算表!AA:AA,[1]测算表!AI:AI,,0,1) -> 210 | N7: =_xlfn.XLOOKUP(E7,[1]测算表!AA:AA,[1]测算表!AJ:AJ,,0,1) -> 188 | O7: =_xlfn.XLOOKUP(E7,[1]测算表!AA:AA,[1]测算表!AK:AK,,0,1) -> 149
A8: 5 | B8: D | C8: 003109030020000 | D8: 奥迪氏括约肌压力测定 | E8: 310903002 | F8: 奥迪氏括约肌压力测定 | G8: 含经十二指肠镜置管及括约肌压力胆总管压力测定 | I8: 次 | K8: =_xlfn.XLOOKUP(E8,[1]测算表!AA:AA,[1]测算表!AG:AG,,0,1) -> 未定 | L8: =_xlfn.XLOOKUP(E8,[1]测算表!AA:AA,[1]测算表!AH:AH,,0,1) -> 未定 | M8: =_xlfn.XLOOKUP(E8,[1]测算表!AA:AA,[1]测算表!AI:AI,,0,1) -> 未定 | N8: =_xlfn.XLOOKUP(E8,[1]测算表!AA:AA,[1]测算表!AJ:AJ,,0,1) -> 未定 | O8: =_xlfn.XLOOKUP(E8,[1]测算表!AA:AA,[1]测算表!AK:AK,,0,1) -> 未定
A9: 6 | B9: D | C9: 003109020030000 | D9: 胃幽门十二指肠压力测定 | E9: 310902003 | F9: 胃幽门十二指肠压力测定 | I9: 次 | K9: =_xlfn.XLOOKUP(E9,[1]测算表!AA:AA,[1]测算表!AG:AG,,0,1) -> 148 | L9: =_xlfn.XLOOKUP(E9,[1]测算表!AA:AA,[1]测算表!AH:AH,,0,1) -> 133 | M9: =_xlfn.XLOOKUP(E9,[1]测算表!AA:AA,[1]测算表!AI:AI,,0,1) -> 126 | N9: =_xlfn.XLOOKUP(E9,[1]测算表!AA:AA,[1]测算表!AJ:AJ,,0,1) -> 113 | O9: =_xlfn.XLOOKUP(E9,[1]测算表!AA:AA,[1]测算表!AK:AK,,0,1) -> 89
A10: 7 | B10: D | C10: 003109020010000 | D10: 胃肠电图 | E10: 310902001 | F10: 胃肠电图 | I10: 项 | J10: 动态胃电图加收200元 | K10: =_xlfn.XLOOKUP(E10,[1]测算表!AA:AA,[1]测算表!AG:AG,,0,1) -> 36 | L10: =_xlfn.XLOOKUP(E10,[1]测算表!AA:AA,[1]测算表!AH:AH,,0,1) -> 32 | M10: =_xlfn.XLOOKUP(E10,[1]测算表!AA:AA,[1]测算表!AI:AI,,0,1) -> 30 | N10: =_xlfn.XLOOKUP(E10,[1]测算表!AA:AA,[1]测算表!AJ:AJ,,0,1) -> 26 | O10: =_xlfn.XLOOKUP(E10,[1]测算表!AA:AA,[1]测算表!AK:AK,,0,1) -> 20
A11: 8 | B11: D | C11: 003109040050000 | D11: 肛直肠肌电测量 | E11: 310904005 | F11: 肛直肠肌电测量 | I11: 次 | K11: =_xlfn.XLOOKUP(E11,[1]测算表!AA:AA,[1]测算表!AG:AG,,0,1) -> 未定 | L11: =_xlfn.XLOOKUP(E11,[1]测算表!AA:AA,[1]测算表!AH:AH,,0,1) -> 未定 | M11: =_xlfn.XLOOKUP(E11,[1]测算表!AA:AA,[1]测算表!AI:AI,,0,1) -> 未定 | N11: =_xlfn.XLOOKUP(E11,[1]测算表!AA:AA,[1]测算表!AJ:AJ,,0,1) -> 未定 | O11: =_xlfn.XLOOKUP(E11,[1]测算表!AA:AA,[1]测算表!AK:AK,,0,1) -> 未定
A12: 9 | B12: D | C12: 003106010130000 | D12: 一氧化氮呼气测定 | E12: 310601013 | F12: 呼出气一氧化氮测定 | G12: 患者首先深呼气，然后口含一次性细菌过滤器及一氧化氮过滤器，在呼出气一氧化氮测定仪上深吸气后，以一定呼气流速匀速呼气持续10秒钟，人工报告。 | I12: 次 | K12: =_xlfn.XLOOKUP(E12,[1]测算表!AA:AA,[1]测算表!AG:AG,,0,1) -> 220 | L12: =_xlfn.XLOOKUP(E12,[1]测算表!AA:AA,[1]测算表!AH:AH,,0,1) -> 198 | M12: =_xlfn.XLOOKUP(E12,[1]测算表!AA:AA,[1]测算表!AI:AI,,0,1) -> 187 | N12: =_xlfn.XLOOKUP(E12,[1]测算表!AA:AA,[1]测算表!AJ:AJ,,0,1) -> 168 | O12: =_xlfn.XLOOKUP(E12,[1]测算表!AA:AA,[1]测算表!AK:AK,,0,1) -> 134
A13: 10 | B13: D | C13: 002305000140000 | D13: 14碳呼气试验 | E13: 230500014 | F13: 14碳呼气试验 | I13: 次 | J13: 各类呼气试验参照执行 | K13: =_xlfn.XLOOKUP(E13,[1]测算表!AA:AA,[1]测算表!AG:AG,,0,1) -> 100 | L13: =_xlfn.XLOOKUP(E13,[1]测算表!AA:AA,[1]测算表!AH:AH,,0,1) -> 90 | M13: =_xlfn.XLOOKUP(E13,[1]测算表!AA:AA,[1]测算表!AI:AI,,0,1) -> 85 | N13: =_xlfn.XLOOKUP(E13,[1]测算表!AA:AA,[1]测算表!AJ:AJ,,0,1) -> 76 | O13: =_xlfn.XLOOKUP(E13,[1]测算表!AA:AA,[1]测算表!AK:AK,,0,1) -> 61
A14: 11 | B14: H | C14: 002504030790000 | D14: 13碳尿素呼气试验 | E14: 250403079 | F14: 13碳尿素呼气试验 | I14: 项 | K14: =_xlfn.XLOOKUP(E14,[1]测算表!AA:AA,[1]测算表!AG:AG,,0,1) -> 120 | L14: =_xlfn.XLOOKUP(E14,[1]测算表!AA:AA,[1]测算表!AH:AH,,0,1) -> 108 | M14: =_xlfn.XLOOKUP(E14,[1]测算表!AA:AA,[1]测算表!AI:AI,,0,1) -> 102 | N14: =_xlfn.XLOOKUP(E14,[1]测算表!AA:AA,[1]测算表!AJ:AJ,,0,1) -> 92 | O14: =_xlfn.XLOOKUP(E14,[1]测算表!AA:AA,[1]测算表!AK:AK,,0,1) -> 73
A15: 12 | B15: E | C15: 433109050330000 | D15: 肝功能储备检测 | E15: 310905029 | F15: 肝功能储备检测（ICG-PDD法） | I15: 次 | K15: =_xlfn.XLOOKUP(E15,[1]测算表!AA:AA,[1]测算表!AG:AG,,0,1) -> 192 | L15: =_xlfn.XLOOKUP(E15,[1]测算表!AA:AA,[1]测算表!AH:AH,,0,1) -> 172 | M15: =_xlfn.XLOOKUP(E15,[1]测算表!AA:AA,[1]测算表!AI:AI,,0,1) -> 163 | N15: =_xlfn.XLOOKUP(E15,[1]测算表!AA:AA,[1]测算表!AJ:AJ,,0,1) -> 146 | O15: =_xlfn.XLOOKUP(E15,[1]测算表!AA:AA,[1]测算表!AK:AK,,0,1) -> 116
A16: 13 | B16: D | C16: 433109050470000 | D16: 肠道菌群移植术 | E16: 310905035 | F16: 肠道菌群移植术 | G16: 将健康人粪便中的功能菌群，通过制备等操作后移植到患者胃肠道内，重建新的肠道菌群，实现患者肠道及肠道外疾病的治疗。所定价格涵盖菌群制备、移植及术后评估指导等操作步骤的人力资源和基本物质资源消耗。 | I16: 次 | K16: =_xlfn.XLOOKUP(E16,[1]测算表!AA:AA,[1]测算表!AG:AG,,0,1) -> 6000 | L16: =_xlfn.XLOOKUP(E16,[1]测算表!AA:AA,[1]测算表!AH:AH,,0,1) -> 5100 | M16: =_xlfn.XLOOKUP(E16,[1]测算表!AA:AA,[1]测算表!AI:AI,,0,1) -> 5100 | N16: =_xlfn.XLOOKUP(E16,[1]测算表!AA:AA,[1]测算表!AJ:AJ,,0,1) -> / | O16: =_xlfn.XLOOKUP(E16,[1]测算表!AA:AA,[1]测算表!AK:AK,,0,1) -> /
A17: 14 | B17: E | C17: 003109050010001 | D17: 腹腔穿刺术(放腹水治疗) | E17: 310905002 | F17: 腹水直接回输治疗 | I17: 次 | J17: 超滤回输加收50% | K17: =_xlfn.XLOOKUP(E17,[1]测算表!AA:AA,[1]测算表!AG:AG,,0,1) -> 480 | L17: =_xlfn.XLOOKUP(E17,[1]测算表!AA:AA,[1]测算表!AH:AH,,0,1) -> 431 | M17: =_xlfn.XLOOKUP(E17,[1]测算表!AA:AA,[1]测算表!AI:AI,,0,1) -> 408 | N17: =_xlfn.XLOOKUP(E17,[1]测算表!AA:AA,[1]测算表!AJ:AJ,,0,1) -> 367 | O17: =_xlfn.XLOOKUP(E17,[1]测算表!AA:AA,[1]测算表!AK:AK,,0,1) -> 292
A18: 15 | B18: E | C18: 003109030130000 | D18: 肠套叠充气造影及整复 | E18: 310903013 | F18: 肠套叠充气造影及整复 | G18: 含临床操作及注气设备使用 | I18: / | J18: 6周岁及以下儿童在相应价格基础上加收30%。 | K18: =_xlfn.XLOOKUP(E18,[1]测算表!AA:AA,[1]测算表!AG:AG,,0,1) -> 247 | L18: =_xlfn.XLOOKUP(E18,[1]测算表!AA:AA,[1]测算表!AH:AH,,0,1) -> 222 | M18: =_xlfn.XLOOKUP(E18,[1]测算表!AA:AA,[1]测算表!AI:AI,,0,1) -> 210 | N18: =_xlfn.XLOOKUP(E18,[1]测算表!AA:AA,[1]测算表!AJ:AJ,,0,1) -> 188 | O18: =_xlfn.XLOOKUP(E18,[1]测算表!AA:AA,[1]测算表!AK:AK,,0,1) -> 149
A19: 16 | B19: E | C19: 003109030120000 | D19: 肠套叠手法复位 | E19: 310903012 | F19: 肠套叠手法复位 | G19: 嵌顿疝手法复位参照执行 | I19: 次 | J19: 6周岁及以下儿童在相应价格基础上加收30%。 | K19: =_xlfn.XLOOKUP(E19,[1]测算表!AA:AA,[1]测算表!AG:AG,,0,1) -> 42 | L19: =_xlfn.XLOOKUP(E19,[1]测算表!AA:AA,[1]测算表!AH:AH,,0,1) -> 38 | M19: =_xlfn.XLOOKUP(E19,[1]测算表!AA:AA,[1]测算表!AI:AI,,0,1) -> 36 | N19: =_xlfn.XLOOKUP(E19,[1]测算表!AA:AA,[1]测算表!AJ:AJ,,0,1) -> 32 | O19: =_xlfn.XLOOKUP(E19,[1]测算表!AA:AA,[1]测算表!AK:AK,,0,1) -> 25
A20: 17 | B20: E | C20: 003109030140000 | D20: 胶囊内镜检查 | E20: 310902010 | F20: 胶囊式内窥镜图象诊断 | G20: 含体表定位、传感器置放及拆卸，数据采集、分析，图文报告及光盘刻录。 | H20: 胶囊 | I20: 次 | K20: =_xlfn.XLOOKUP(E20,[1]测算表!AA:AA,[1]测算表!AG:AG,,0,1) -> 2400 | L20: =_xlfn.XLOOKUP(E20,[1]测算表!AA:AA,[1]测算表!AH:AH,,0,1) -> 2160 | M20: =_xlfn.XLOOKUP(E20,[1]测算表!AA:AA,[1]测算表!AI:AI,,0,1) -> 2040 | N20: =_xlfn.XLOOKUP(E20,[1]测算表!AA:AA,[1]测算表!AJ:AJ,,0,1) -> 1835 | O20: =_xlfn.XLOOKUP(E20,[1]测算表!AA:AA,[1]测算表!AK:AK,,0,1) -> 1468
A21: 18 | B21: D | C21: 003109010030000 | D21: 硬性食管镜检查 | E21: 310901003 | F21: 硬性食管镜检查 | I21: 次 | K21: =_xlfn.XLOOKUP(E21,[1]测算表!AA:AA,[1]测算表!AG:AG,,0,1) -> 120 | L21: =_xlfn.XLOOKUP(E21,[1]测算表!AA:AA,[1]测算表!AH:AH,,0,1) -> 107 | M21: =_xlfn.XLOOKUP(E21,[1]测算表!AA:AA,[1]测算表!AI:AI,,0,1) -> 102 | N21: =_xlfn.XLOOKUP(E21,[1]测算表!AA:AA,[1]测算表!AJ:AJ,,0,1) -> 91 | O21: =_xlfn.XLOOKUP(E21,[1]测算表!AA:AA,[1]测算表!AK:AK,,0,1) -> 72
A22: 19 | B22: D | C22: 003109010040000 | D22: 纤维食管镜检查 | E22: 310901004 | F22: 纤维食管镜检查 | G22: 含活检 | I22: 次 | J22: 电子镜加收100元 | K22: =_xlfn.XLOOKUP(E22,[1]测算表!AA:AA,[1]测算表!AG:AG,,0,1) -> 60 | L22: =_xlfn.XLOOKUP(E22,[1]测算表!AA:AA,[1]测算表!AH:AH,,0,1) -> 53 | M22: =_xlfn.XLOOKUP(E22,[1]测算表!AA:AA,[1]测算表!AI:AI,,0,1) -> 50 | N22: =_xlfn.XLOOKUP(E22,[1]测算表!AA:AA,[1]测算表!AJ:AJ,,0,1) -> 45 | O22: =_xlfn.XLOOKUP(E22,[1]测算表!AA:AA,[1]测算表!AK:AK,,0,1) -> 35
A23: 20 | B23: D | C23: 003109020050000 | D23: 纤维胃十二指肠镜检查 | E23: 310902005 | F23: 纤维胃十二指肠镜检查 | G23: 含活检、刷检。 | I23: 次 | J23: 电子镜加收100元。 | K23: =_xlfn.XLOOKUP(E23,[1]测算表!AA:AA,[1]测算表!AG:AG,,0,1) -> 72 | L23: =_xlfn.XLOOKUP(E23,[1]测算表!AA:AA,[1]测算表!AH:AH,,0,1) -> 65 | M23: =_xlfn.XLOOKUP(E23,[1]测算表!AA:AA,[1]测算表!AI:AI,,0,1) -> 61 | N23: =_xlfn.XLOOKUP(E23,[1]测算表!AA:AA,[1]测算表!AJ:AJ,,0,1) -> 55 | O23: =_xlfn.XLOOKUP(E23,[1]测算表!AA:AA,[1]测算表!AK:AK,,0,1) -> 43
A24: 21 | B24: D | C24: 003109050060000 | D24: 胆道镜检查 | E24: 310905006 | F24: 胆道镜检查 | G24: 指纤维胆道镜 | I24: 次 | J24: 电子镜加收100元；超选择造影加收30元 | K24: =_xlfn.XLOOKUP(E24,[1]测算表!AA:AA,[1]测算表!AG:AG,,0,1) -> 120 | L24: =_xlfn.XLOOKUP(E24,[1]测算表!AA:AA,[1]测算表!AH:AH,,0,1) -> 108 | M24: =_xlfn.XLOOKUP(E24,[1]测算表!AA:AA,[1]测算表!AI:AI,,0,1) -> 102 | N24: =_xlfn.XLOOKUP(E24,[1]测算表!AA:AA,[1]测算表!AJ:AJ,,0,1) -> 92 | O24: =_xlfn.XLOOKUP(E24,[1]测算表!AA:AA,[1]测算表!AK:AK,,0,1) -> 73
A25: 22 | B25: D | C25: 003109040010000 | D25: 直肠镜检查 | E25: 310904001 | F25: 直肠镜检查 | G25: 含活检；包括直肠取活检术 | I25: 次 | K25: =_xlfn.XLOOKUP(E25,[1]测算表!AA:AA,[1]测算表!AG:AG,,0,1) -> 48 | L25: =_xlfn.XLOOKUP(E25,[1]测算表!AA:AA,[1]测算表!AH:AH,,0,1) -> 43 | M25: =_xlfn.XLOOKUP(E25,[1]测算表!AA:AA,[1]测算表!AI:AI,,0,1) -> 41 | N25: =_xlfn.XLOOKUP(E25,[1]测算表!AA:AA,[1]测算表!AJ:AJ,,0,1) -> 37 | O25: =_xlfn.XLOOKUP(E25,[1]测算表!AA:AA,[1]测算表!AK:AK,,0,1) -> 29
A26: 23 | B26: D | C26: 003109030060000 | D26: 乙状结肠镜检查 | E26: 310903006 | F26: 乙状结肠镜检查 | G26: 含活检 | I26: 次 | J26: 电子镜加收100元 | K26: =_xlfn.XLOOKUP(E26,[1]测算表!AA:AA,[1]测算表!AG:AG,,0,1) -> 72 | L26: =_xlfn.XLOOKUP(E26,[1]测算表!AA:AA,[1]测算表!AH:AH,,0,1) -> 64 | M26: =_xlfn.XLOOKUP(E26,[1]测算表!AA:AA,[1]测算表!AI:AI,,0,1) -> 61 | N26: =_xlfn.XLOOKUP(E26,[1]测算表!AA:AA,[1]测算表!AJ:AJ,,0,1) -> 55 | O26: =_xlfn.XLOOKUP(E26,[1]测算表!AA:AA,[1]测算表!AK:AK,,0,1) -> 42
A27: 24 | B27: D | C27: 003109030050000 | D27: 纤维结肠镜检查 | E27: 310903005 | F27: 纤维结肠镜检查 | G27: 含活检 | I27: 次 | J27: 电子镜加收100元 | K27: =_xlfn.XLOOKUP(E27,[1]测算表!AA:AA,[1]测算表!AG:AG,,0,1) -> 180 | L27: =_xlfn.XLOOKUP(E27,[1]测算表!AA:AA,[1]测算表!AH:AH,,0,1) -> 162 | M27: =_xlfn.XLOOKUP(E27,[1]测算表!AA:AA,[1]测算表!AI:AI,,0,1) -> 153 | N27: =_xlfn.XLOOKUP(E27,[1]测算表!AA:AA,[1]测算表!AJ:AJ,,0,1) -> 138 | O27: =_xlfn.XLOOKUP(E27,[1]测算表!AA:AA,[1]测算表!AK:AK,,0,1) -> 110
A28: 25 | B28: D | C28: 003109030040000 | D28: 小肠镜检查 | E28: 310903004 | F28: 小肠镜检查 | G28: 含活检 | H28: 内镜用外套管、小气囊、一次性活检钳 | I28: 次 | J28: 电子镜加收100元、（单）双气囊小肠镜按每次3600元收取 | K28: =_xlfn.XLOOKUP(E28,[1]测算表!AA:AA,[1]测算表!AG:AG,,0,1) -> 240 | L28: =_xlfn.XLOOKUP(E28,[1]测算表!AA:AA,[1]测算表!AH:AH,,0,1) -> 215 | M28: =_xlfn.XLOOKUP(E28,[1]测算表!AA:AA,[1]测算表!AI:AI,,0,1) -> 203 | N28: =_xlfn.XLOOKUP(E28,[1]测算表!AA:AA,[1]测算表!AJ:AJ,,0,1) -> 182 | O28: =_xlfn.XLOOKUP(E28,[1]测算表!AA:AA,[1]测算表!AK:AK,,0,1) -> 145
A29: 26 | B29: E | C29: 003109020090000 | D29: 超声胃镜检查术 | E29: 310902009 | F29: 超声胃镜检查术 | G29: 超声肠镜检查术参照执行 | I29: 次 | J29: 活检加收150元 | K29: =_xlfn.XLOOKUP(E29,[1]测算表!AA:AA,[1]测算表!AG:AG,,0,1) -> 600 | L29: =_xlfn.XLOOKUP(E29,[1]测算表!AA:AA,[1]测算表!AH:AH,,0,1) -> 540 | M29: =_xlfn.XLOOKUP(E29,[1]测算表!AA:AA,[1]测算表!AI:AI,,0,1) -> 509 | N29: =_xlfn.XLOOKUP(E29,[1]测算表!AA:AA,[1]测算表!AJ:AJ,,0,1) -> 458 | O29: =_xlfn.XLOOKUP(E29,[1]测算表!AA:AA,[1]测算表!AK:AK,,0,1) -> 366
A30: 27 | B30: E | C30: 003109050240000 | D30: 经内镜胆管内超声检查术 | E30: 310905024 | F30: 经内镜胆管内超声检查术 | I30: 次 | K30: =_xlfn.XLOOKUP(E30,[1]测算表!AA:AA,[1]测算表!AG:AG,,0,1) -> 960 | L30: =_xlfn.XLOOKUP(E30,[1]测算表!AA:AA,[1]测算表!AH:AH,,0,1) -> 863 | M30: =_xlfn.XLOOKUP(E30,[1]测算表!AA:AA,[1]测算表!AI:AI,,0,1) -> 815 | N30: =_xlfn.XLOOKUP(E30,[1]测算表!AA:AA,[1]测算表!AJ:AJ,,0,1) -> 733 | O30: =_xlfn.XLOOKUP(E30,[1]测算表!AA:AA,[1]测算表!AK:AK,,0,1) -> 586
A31: 28 | B31: D | C31: 002101030210000 | D31: 经内镜逆行胰胆管造影(ERCP) | E31: 210103021 | F31: 经内镜逆行胰胆管造影(ERCP) | G31: 含临床操作及造影剂过敏试验 | I31: 次 | K31: =_xlfn.XLOOKUP(E31,[1]测算表!AA:AA,[1]测算表!AG:AG,,0,1) -> 400 | L31: =_xlfn.XLOOKUP(E31,[1]测算表!AA:AA,[1]测算表!AH:AH,,0,1) -> 360 | M31: =_xlfn.XLOOKUP(E31,[1]测算表!AA:AA,[1]测算表!AI:AI,,0,1) -> 339 | N31: =_xlfn.XLOOKUP(E31,[1]测算表!AA:AA,[1]测算表!AJ:AJ,,0,1) -> 305 | O31: =_xlfn.XLOOKUP(E31,[1]测算表!AA:AA,[1]测算表!AK:AK,,0,1) -> 244
A32: 29 | B32: D | C32: 002101030220000 | D32: 经皮经肝胆道造影(PTC) | E32: 210103022 | F32: 经皮经肝胆道造影(PTC) | I32: 次 | K32: =_xlfn.XLOOKUP(E32,[1]测算表!AA:AA,[1]测算表!AG:AG,,0,1) -> 180 | L32: =_xlfn.XLOOKUP(E32,[1]测算表!AA:AA,[1]测算表!AH:AH,,0,1) -> 162 | M32: =_xlfn.XLOOKUP(E32,[1]测算表!AA:AA,[1]测算表!AI:AI,,0,1) -> 153 | N32: =_xlfn.XLOOKUP(E32,[1]测算表!AA:AA,[1]测算表!AJ:AJ,,0,1) -> 137 | O32: =_xlfn.XLOOKUP(E32,[1]测算表!AA:AA,[1]测算表!AK:AK,,0,1) -> 109
A33: 30 | B33: E | C33: 003109050100000 | D33: 经皮肝穿胆道引流术(PTCD) | E33: 310905010 | F33: 经皮肝穿胆道引流术(PTCD) | G33: 不含超声定位引导或X线引导 | H33: 支架、导管 | I33: 次 | K33: =_xlfn.XLOOKUP(E33,[1]测算表!AA:AA,[1]测算表!AG:AG,,0,1) -> 396 | L33: =_xlfn.XLOOKUP(E33,[1]测算表!AA:AA,[1]测算表!AH:AH,,0,1) -> 356 | M33: =_xlfn.XLOOKUP(E33,[1]测算表!AA:AA,[1]测算表!AI:AI,,0,1) -> 337 | N33: =_xlfn.XLOOKUP(E33,[1]测算表!AA:AA,[1]测算表!AJ:AJ,,0,1) -> 303 | O33: =_xlfn.XLOOKUP(E33,[1]测算表!AA:AA,[1]测算表!AK:AK,,0,1) -> 242
A34: 31 | B34: E | C34: 003109050170000 | D34: 经皮经肝胆道镜胆管狭窄内瘘术 | E34: 310905017 | F34: 经皮经肝胆道镜胆管狭窄内瘘术 | I34: 次 | K34: =_xlfn.XLOOKUP(E34,[1]测算表!AA:AA,[1]测算表!AG:AG,,0,1) -> 未定 | L34: =_xlfn.XLOOKUP(E34,[1]测算表!AA:AA,[1]测算表!AH:AH,,0,1) -> 未定 | M34: =_xlfn.XLOOKUP(E34,[1]测算表!AA:AA,[1]测算表!AI:AI,,0,1) -> 未定 | N34: =_xlfn.XLOOKUP(E34,[1]测算表!AA:AA,[1]测算表!AJ:AJ,,0,1) -> 未定 | O34: =_xlfn.XLOOKUP(E34,[1]测算表!AA:AA,[1]测算表!AK:AK,,0,1) -> 未定
A35: 32 | B35: E | C35: 003109050120000 | D35: 经内镜鼻胆管引流术(ENBD) | E35: 310905012 | F35: 经内镜鼻胆管引流术（ENBD） | H35: 一次性鼻胆引流管 | I35: 次 | K35: =_xlfn.XLOOKUP(E35,[1]测算表!AA:AA,[1]测算表!AG:AG,,0,1) -> 660 | L35: =_xlfn.XLOOKUP(E35,[1]测算表!AA:AA,[1]测算表!AH:AH,,0,1) -> 594 | M35: =_xlfn.XLOOKUP(E35,[1]测算表!AA:AA,[1]测算表!AI:AI,,0,1) -> 560 | N35: =_xlfn.XLOOKUP(E35,[1]测算表!AA:AA,[1]测算表!AJ:AJ,,0,1) -> 504 | O35: =_xlfn.XLOOKUP(E35,[1]测算表!AA:AA,[1]测算表!AK:AK,,0,1) -> 403
A36: 33 | B36: E | C36: 003109050110000 | D36: 经内镜胆管内引流术＋支架置入术 | E36: 310905011 | F36: 经内镜胆管内引流术＋支架置入术 | G36: 不含X线监视 | H36: 支架 | I36: 次 | K36: =_xlfn.XLOOKUP(E36,[1]测算表!AA:AA,[1]测算表!AG:AG,,0,1) -> 1056 | L36: =_xlfn.XLOOKUP(E36,[1]测算表!AA:AA,[1]测算表!AH:AH,,0,1) -> 950 | M36: =_xlfn.XLOOKUP(E36,[1]测算表!AA:AA,[1]测算表!AI:AI,,0,1) -> 897 | N36: =_xlfn.XLOOKUP(E36,[1]测算表!AA:AA,[1]测算表!AJ:AJ,,0,1) -> 807 | O36: =_xlfn.XLOOKUP(E36,[1]测算表!AA:AA,[1]测算表!AK:AK,,0,1) -> 645
A37: 34 | B37: E | C37: 003109050190000 | D37: 经内镜胰管内引流术 | E37: 310905019 | F37: 经内镜胰管内引流术 | G37: 胰腺囊肿内引流参照执行 | H37: 支架 | I37: 次 | K37: =_xlfn.XLOOKUP(E37,[1]测算表!AA:AA,[1]测算表!AG:AG,,0,1) -> 924 | L37: =_xlfn.XLOOKUP(E37,[1]测算表!AA:AA,[1]测算表!AH:AH,,0,1) -> 831 | M37: =_xlfn.XLOOKUP(E37,[1]测算表!AA:AA,[1]测算表!AI:AI,,0,1) -> 785 | N37: =_xlfn.XLOOKUP(E37,[1]测算表!AA:AA,[1]测算表!AJ:AJ,,0,1) -> 706 | O37: =_xlfn.XLOOKUP(E37,[1]测算表!AA:AA,[1]测算表!AK:AK,,0,1) -> 564
A38: 35 | B38: E | C38: 003109050090000 | D38: 肝囊肿硬化剂注射治疗 | E38: 310905009 | F38: 肝囊肿硬化剂注射治疗 | G38: 不含超声定位引导 | I38: 次 | K38: =_xlfn.XLOOKUP(E38,[1]测算表!AA:AA,[1]测算表!AG:AG,,0,1) -> 158 | L38: =_xlfn.XLOOKUP(E38,[1]测算表!AA:AA,[1]测算表!AH:AH,,0,1) -> 142 | M38: =_xlfn.XLOOKUP(E38,[1]测算表!AA:AA,[1]测算表!AI:AI,,0,1) -> 134 | N38: =_xlfn.XLOOKUP(E38,[1]测算表!AA:AA,[1]测算表!AJ:AJ,,0,1) -> 120 | O38: =_xlfn.XLOOKUP(E38,[1]测算表!AA:AA,[1]测算表!AK:AK,,0,1) -> 96
A39: 36 | B39: E | C39: 003109050050000 | D39: 经皮穿刺肝肿物特殊治疗 | E39: 310905005 | F39: 经皮穿刺肝肿物特殊治疗 | G39: 指药物注射 | I39: 次 | J39: 激光、微波、90钇法加收50元。6周岁及以下儿童在相应价格基础上加收30%。 | K39: =_xlfn.XLOOKUP(E39,[1]测算表!AA:AA,[1]测算表!AG:AG,,0,1) -> 198 | L39: =_xlfn.XLOOKUP(E39,[1]测算表!AA:AA,[1]测算表!AH:AH,,0,1) -> 178 | M39: =_xlfn.XLOOKUP(E39,[1]测算表!AA:AA,[1]测算表!AI:AI,,0,1) -> 168 | N39: =_xlfn.XLOOKUP(E39,[1]测算表!AA:AA,[1]测算表!AJ:AJ,,0,1) -> 151 | O39: =_xlfn.XLOOKUP(E39,[1]测算表!AA:AA,[1]测算表!AK:AK,,0,1) -> 119
A40: 37 | B40: E | C40: 003109050080000 | D40: 膈下脓肿穿刺引流术 | E40: 310905008 | F40: 膈下脓肿穿刺引流术 | G40: 不含超声定位引导，腹腔脓肿引流、胆汁穿刺引流参照执行； | I40: 次 | J40: 6周岁及以下儿童在相应价格基础上加收30%。 | K40: =_xlfn.XLOOKUP(E40,[1]测算表!AA:AA,[1]测算表!AG:AG,,0,1) -> 132 | L40: =_xlfn.XLOOKUP(E40,[1]测算表!AA:AA,[1]测算表!AH:AH,,0,1) -> 118 | M40: =_xlfn.XLOOKUP(E40,[1]测算表!AA:AA,[1]测算表!AI:AI,,0,1) -> 112 | N40: =_xlfn.XLOOKUP(E40,[1]测算表!AA:AA,[1]测算表!AJ:AJ,,0,1) -> 100 | O40: =_xlfn.XLOOKUP(E40,[1]测算表!AA:AA,[1]测算表!AK:AK,,0,1) -> 79
A41: 38 | B41: E | C41: 003109030100000 | D41: 经肠镜特殊治疗 | E41: 310903010 | F41: 经肠镜特殊治疗 | H41: 圈套器、血管夹 | I41: 次 | J41: 微波加收50%，激光、电切法可分别加收100% | K41: =_xlfn.XLOOKUP(E41,[1]测算表!AA:AA,[1]测算表!AG:AG,,0,1) -> 360 | L41: =_xlfn.XLOOKUP(E41,[1]测算表!AA:AA,[1]测算表!AH:AH,,0,1) -> 324 | M41: =_xlfn.XLOOKUP(E41,[1]测算表!AA:AA,[1]测算表!AI:AI,,0,1) -> 306 | N41: =_xlfn.XLOOKUP(E41,[1]测算表!AA:AA,[1]测算表!AJ:AJ,,0,1) -> 275 | O41: =_xlfn.XLOOKUP(E41,[1]测算表!AA:AA,[1]测算表!AK:AK,,0,1) -> 220
A42: 39 | B42: E | C42: 003109030090000 | D42: 经内镜结肠治疗 | E42: 310903009 | F42: 经内镜结肠治疗 | G42: 液疗、药疗、取异物分别参照执行 | I42: 次 | K42: =_xlfn.XLOOKUP(E42,[1]测算表!AA:AA,[1]测算表!AG:AG,,0,1) -> 240 | L42: =_xlfn.XLOOKUP(E42,[1]测算表!AA:AA,[1]测算表!AH:AH,,0,1) -> 216 | M42: =_xlfn.XLOOKUP(E42,[1]测算表!AA:AA,[1]测算表!AI:AI,,0,1) -> 204 | N42: =_xlfn.XLOOKUP(E42,[1]测算表!AA:AA,[1]测算表!AJ:AJ,,0,1) -> 183 | O42: =_xlfn.XLOOKUP(E42,[1]测算表!AA:AA,[1]测算表!AK:AK,,0,1) -> 146
A43: 40 | B43: E | C43: 003109020060000 | D43: 经胃镜特殊治疗 | E43: 310902006 | F43: 经胃镜特殊治疗 | G43: 指电凝法，取异物、粘膜切除、粘膜血流量测定、止血、息肉肿物切除等病变及内镜下胃食道返流治疗、药疗、化疗、硬化剂治疗分别参照执行 | H43: 圈套器、血管夹、内镜注射针 | I43: 次 | J43: 微波加收50%、激光、消融、等离子、电切法可分别加收100%。 | K43: =_xlfn.XLOOKUP(E43,[1]测算表!AA:AA,[1]测算表!AG:AG,,0,1) -> 360 | L43: =_xlfn.XLOOKUP(E43,[1]测算表!AA:AA,[1]测算表!AH:AH,,0,1) -> 324 | M43: =_xlfn.XLOOKUP(E43,[1]测算表!AA:AA,[1]测算表!AI:AI,,0,1) -> 306 | N43: =_xlfn.XLOOKUP(E43,[1]测算表!AA:AA,[1]测算表!AJ:AJ,,0,1) -> 275 | O43: =_xlfn.XLOOKUP(E43,[1]测算表!AA:AA,[1]测算表!AK:AK,,0,1) -> 219
A44: 41 | B44: E | C44: 003109040060000 | D44: 直肠肛门特殊治疗 | E44: 310904006 | F44: 直肠肛门特殊治疗 | G44: 指冷冻法 | I44: 次 | J44: 微波法、激光法加收100元 | K44: =_xlfn.XLOOKUP(E44,[1]测算表!AA:AA,[1]测算表!AG:AG,,0,1) -> 144 | L44: =_xlfn.XLOOKUP(E44,[1]测算表!AA:AA,[1]测算表!AH:AH,,0,1) -> 130 | M44: =_xlfn.XLOOKUP(E44,[1]测算表!AA:AA,[1]测算表!AI:AI,,0,1) -> 122 | N44: =_xlfn.XLOOKUP(E44,[1]测算表!AA:AA,[1]测算表!AJ:AJ,,0,1) -> 109 | O44: =_xlfn.XLOOKUP(E44,[1]测算表!AA:AA,[1]测算表!AK:AK,,0,1) -> 87
A45: 42 | B45: G | C45: 003310040030000 | D45: 经内镜直肠良性肿物切除术 | E45: 331004003 | F45: 经内镜直肠良性肿物切除术 | G45: 指电凝法。粘膜、粘膜下、息肉、腺瘤分别参照执行 | I45: 次 | J45: 激光、套扎分别加收200元 | K45: =_xlfn.XLOOKUP(E45,[1]测算表!AA:AA,[1]测算表!AG:AG,,0,1) -> 852 | L45: =_xlfn.XLOOKUP(E45,[1]测算表!AA:AA,[1]测算表!AH:AH,,0,1) -> 767 | M45: =_xlfn.XLOOKUP(E45,[1]测算表!AA:AA,[1]测算表!AI:AI,,0,1) -> 724 | N45: =_xlfn.XLOOKUP(E45,[1]测算表!AA:AA,[1]测算表!AJ:AJ,,0,1) -> 651 | O45: =_xlfn.XLOOKUP(E45,[1]测算表!AA:AA,[1]测算表!AK:AK,,0,1) -> 520
A46: 43 | B46: E | C46: 003109010070000 | D46: 经胃镜食管静脉曲张治疗 | E46: 310901007 | F46: 经胃镜食管静脉曲张治疗 | G46: 含胃镜检查。硬化、套扎、组织粘合分别参照执行 | H46: 套扎器、组织粘合剂、粘合剂注射导管、内镜注射针 | I46: 每个位点 | K46: =_xlfn.XLOOKUP(E46,[1]测算表!AA:AA,[1]测算表!AG:AG,,0,1) -> 223 | L46: =_xlfn.XLOOKUP(E46,[1]测算表!AA:AA,[1]测算表!AH:AH,,0,1) -> 200 | M46: =_xlfn.XLOOKUP(E46,[1]测算表!AA:AA,[1]测算表!AI:AI,,0,1) -> 189 | N46: =_xlfn.XLOOKUP(E46,[1]测算表!AA:AA,[1]测算表!AJ:AJ,,0,1) -> 170 | O46: =_xlfn.XLOOKUP(E46,[1]测算表!AA:AA,[1]测算表!AK:AK,,0,1) -> 135
A47: 44 | B47: E | C47: 433109020110100 | D47: 经电子内镜消化道黏膜剥离术(ESD) | E47: 310905031 | F47: 经电子内镜消化道黏膜剥离术（ESD） | G47: 经电子内镜寻查病变部位，于病变部位基底部注射，抬举病变黏膜部分，采用内镜专用切开刀等进行剥离或切除治疗。不含监护、内镜及病理学检查。 | H47: 透明帽、组织切开刀、一次性氩气电极、夹子装置、活检钳、止血夹/钳、注射针 | I47: 次 | J47: 经内镜食管贲门肌切开术(POEM)/经内镜黏膜下隧道肿瘤切除术(STER)加收20%；经内镜消化道黏膜切除术(EMR)按50%收取。以上项目均不含监护、内镜及病理学检查。 | K47: =_xlfn.XLOOKUP(E47,[1]测算表!AA:AA,[1]测算表!AG:AG,,0,1) -> 2500 | L47: =_xlfn.XLOOKUP(E47,[1]测算表!AA:AA,[1]测算表!AH:AH,,0,1) -> 2250 | M47: =_xlfn.XLOOKUP(E47,[1]测算表!AA:AA,[1]测算表!AI:AI,,0,1) -> 2125 | N47: =_xlfn.XLOOKUP(E47,[1]测算表!AA:AA,[1]测算表!AJ:AJ,,0,1) -> 1913 | O47: =_xlfn.XLOOKUP(E47,[1]测算表!AA:AA,[1]测算表!AK:AK,,0,1) -> 1530
A48: 45 | B48: E | C48: 003109010100000 | D48: 经内镜食管瘘填堵术 | E48: 310901010 | F48: 经内镜食管瘘填堵术 | I48: 次 | K48: 396 | L48: 356 | M48: 337 | N48: 303 | O48: 242
A49: 46 | B49: E | C49: 003109010050000 | D49: 经食管镜取异物 | E49: 310901005 | F49: 经食管镜取异物 | G49: 不含止血等治疗 | I49: 次 | J49: 电子镜加收100元 | K49: =_xlfn.XLOOKUP(E49,[1]测算表!AA:AA,[1]测算表!AG:AG,,0,1) -> 396 | L49: =_xlfn.XLOOKUP(E49,[1]测算表!AA:AA,[1]测算表!AH:AH,,0,1) -> 356 | M49: =_xlfn.XLOOKUP(E49,[1]测算表!AA:AA,[1]测算表!AI:AI,,0,1) -> 337 | N49: =_xlfn.XLOOKUP(E49,[1]测算表!AA:AA,[1]测算表!AJ:AJ,,0,1) -> 303 | O49: =_xlfn.XLOOKUP(E49,[1]测算表!AA:AA,[1]测算表!AK:AK,,0,1) -> 242
A50: 47 | B50: E | C50: 003109020080000 | D50: 经胃镜碎石术 | E50: 310902008 | F50: 经胃镜碎石术 | G50: 腔内钬激光碎石治疗、腔镜下钕激光碎石取石术、机械碎石法、激光碎石法、爆破碎石法分别参照执行 | H50: 光纤 | I50: 次 | K50: =_xlfn.XLOOKUP(E50,[1]测算表!AA:AA,[1]测算表!AG:AG,,0,1) -> 528 | L50: =_xlfn.XLOOKUP(E50,[1]测算表!AA:AA,[1]测算表!AH:AH,,0,1) -> 475 | M50: =_xlfn.XLOOKUP(E50,[1]测算表!AA:AA,[1]测算表!AI:AI,,0,1) -> 449 | N50: =_xlfn.XLOOKUP(E50,[1]测算表!AA:AA,[1]测算表!AJ:AJ,,0,1) -> 404 | O50: =_xlfn.XLOOKUP(E50,[1]测算表!AA:AA,[1]测算表!AK:AK,,0,1) -> 323
A51: 48 | B51: E | C51: 003109030030000 | D51: 经十二指肠镜胆道结石取出术 | E51: 310903003 | F51: 经十二指肠镜胆道结石取出术 | G51: 取异物、取蛔虫分别参照执行 | H51: 取石篮 | I51: 次 | K51: =_xlfn.XLOOKUP(E51,[1]测算表!AA:AA,[1]测算表!AG:AG,,0,1) -> 726 | L51: =_xlfn.XLOOKUP(E51,[1]测算表!AA:AA,[1]测算表!AH:AH,,0,1) -> 653 | M51: =_xlfn.XLOOKUP(E51,[1]测算表!AA:AA,[1]测算表!AI:AI,,0,1) -> 617 | N51: =_xlfn.XLOOKUP(E51,[1]测算表!AA:AA,[1]测算表!AJ:AJ,,0,1) -> 555 | O51: =_xlfn.XLOOKUP(E51,[1]测算表!AA:AA,[1]测算表!AK:AK,,0,1) -> 442
A52: 49 | B52: E | C52: 003109010080000 | D52: 食管狭窄扩张术 | E52: 310901008 | F52: 食管狭窄扩张术 | G52: 经内镜扩张、器械扩张、透视下气囊或水囊扩张及逆行扩张、贲门、幽门、十二指肠狭窄扩张术参照执行 | H52: 气囊或水囊扩张导管 | I52: 次 | K52: =_xlfn.XLOOKUP(E52,[1]测算表!AA:AA,[1]测算表!AG:AG,,0,1) -> 660 | L52: =_xlfn.XLOOKUP(E52,[1]测算表!AA:AA,[1]测算表!AH:AH,,0,1) -> 594 | M52: =_xlfn.XLOOKUP(E52,[1]测算表!AA:AA,[1]测算表!AI:AI,,0,1) -> 561 | N52: =_xlfn.XLOOKUP(E52,[1]测算表!AA:AA,[1]测算表!AJ:AJ,,0,1) -> 504 | O52: =_xlfn.XLOOKUP(E52,[1]测算表!AA:AA,[1]测算表!AK:AK,,0,1) -> 403
A53: 50 | B53: G | C53: 003310040040000 | D53: 直肠狭窄扩张术 | E53: 331004004 | F53: 直肠狭窄扩张术 | I53: 次 | K53: =_xlfn.XLOOKUP(E53,[1]测算表!AA:AA,[1]测算表!AG:AG,,0,1) -> 568 | L53: =_xlfn.XLOOKUP(E53,[1]测算表!AA:AA,[1]测算表!AH:AH,,0,1) -> 511 | M53: =_xlfn.XLOOKUP(E53,[1]测算表!AA:AA,[1]测算表!AI:AI,,0,1) -> 483 | N53: =_xlfn.XLOOKUP(E53,[1]测算表!AA:AA,[1]测算表!AJ:AJ,,0,1) -> 434 | O53: =_xlfn.XLOOKUP(E53,[1]测算表!AA:AA,[1]测算表!AK:AK,,0,1) -> 347
A54: 51 | B54: E | C54: 003109030070000 | D54: 经内镜肠道球囊扩张术 | E54: 310903007 | F54: 经内镜肠道球囊扩张术 | H54: 球囊 | I54: 次 | K54: =_xlfn.XLOOKUP(E54,[1]测算表!AA:AA,[1]测算表!AG:AG,,0,1) -> 396 | L54: =_xlfn.XLOOKUP(E54,[1]测算表!AA:AA,[1]测算表!AH:AH,,0,1) -> 356 | M54: =_xlfn.XLOOKUP(E54,[1]测算表!AA:AA,[1]测算表!AI:AI,,0,1) -> 337 | N54: =_xlfn.XLOOKUP(E54,[1]测算表!AA:AA,[1]测算表!AJ:AJ,,0,1) -> 303 | O54: =_xlfn.XLOOKUP(E54,[1]测算表!AA:AA,[1]测算表!AK:AK,,0,1) -> 242
A55: 52 | B55: E | C55: 003109050210000 | D55: 胆道球囊扩张术 | E55: 310905021 | F55: 胆道球囊扩张术 | H55: 球囊 | I55: / | K55: =_xlfn.XLOOKUP(E55,[1]测算表!AA:AA,[1]测算表!AG:AG,,0,1) -> 660 | L55: =_xlfn.XLOOKUP(E55,[1]测算表!AA:AA,[1]测算表!AH:AH,,0,1) -> 594 | M55: =_xlfn.XLOOKUP(E55,[1]测算表!AA:AA,[1]测算表!AI:AI,,0,1) -> 561 | N55: =_xlfn.XLOOKUP(E55,[1]测算表!AA:AA,[1]测算表!AJ:AJ,,0,1) -> 505 | O55: =_xlfn.XLOOKUP(E55,[1]测算表!AA:AA,[1]测算表!AK:AK,,0,1) -> 404
A56: 53 | B56: G | C56: 003310060130000 | D56: 经十二指肠镜乳头扩张术 | E56: 331006013 | F56: 经十二指肠镜乳头扩张术 | I56: 次 | J56: △ | K56: =_xlfn.XLOOKUP(E56,[1]测算表!AA:AA,[1]测算表!AG:AG,,0,1) -> 1223 | L56: =_xlfn.XLOOKUP(E56,[1]测算表!AA:AA,[1]测算表!AH:AH,,0,1) -> 1100 | M56: =_xlfn.XLOOKUP(E56,[1]测算表!AA:AA,[1]测算表!AI:AI,,0,1) -> 1039 | N56: =_xlfn.XLOOKUP(E56,[1]测算表!AA:AA,[1]测算表!AJ:AJ,,0,1) -> 935 | O56: =_xlfn.XLOOKUP(E56,[1]测算表!AA:AA,[1]测算表!AK:AK,,0,1) -> 747
A57: 54 | B57: E | C57: 003109010060000 | D57: 食管腔内支架置入术 | E57: 310901006 | F57: 食管腔内支架置入术 | G57: 支架取出术、肠导管置入术分别参照执行。 | H57: 支架 | I57: 次 | K57: =_xlfn.XLOOKUP(E57,[1]测算表!AA:AA,[1]测算表!AG:AG,,0,1) -> 1056 | L57: =_xlfn.XLOOKUP(E57,[1]测算表!AA:AA,[1]测算表!AH:AH,,0,1) -> 950 | M57: =_xlfn.XLOOKUP(E57,[1]测算表!AA:AA,[1]测算表!AI:AI,,0,1) -> 898 | N57: =_xlfn.XLOOKUP(E57,[1]测算表!AA:AA,[1]测算表!AJ:AJ,,0,1) -> 808 | O57: =_xlfn.XLOOKUP(E57,[1]测算表!AA:AA,[1]测算表!AK:AK,,0,1) -> 646
A58: 55 | B58: E | C58: 003109020070000 | D58: 经胃镜胃内支架置入术 | E58: 310902007 | F58: 经胃镜胃内支架置入术 | G58: 食管、贲门、幽门、十二指肠支架置入术分别参照执行 | H58: 支架 | I58: 次 | K58: =_xlfn.XLOOKUP(E58,[1]测算表!AA:AA,[1]测算表!AG:AG,,0,1) -> 396 | L58: =_xlfn.XLOOKUP(E58,[1]测算表!AA:AA,[1]测算表!AH:AH,,0,1) -> 356 | M58: =_xlfn.XLOOKUP(E58,[1]测算表!AA:AA,[1]测算表!AI:AI,,0,1) -> 337 | N58: =_xlfn.XLOOKUP(E58,[1]测算表!AA:AA,[1]测算表!AJ:AJ,,0,1) -> 303 | O58: =_xlfn.XLOOKUP(E58,[1]测算表!AA:AA,[1]测算表!AK:AK,,0,1) -> 242
A59: 56 | B59: E | C59: 003109050180000 | D59: 经内镜十二指肠狭窄支架置入术 | E59: 310905018 | F59: 经内镜十二指肠狭窄支架置入术 | H59: 支架 | I59: 次 | K59: =_xlfn.XLOOKUP(E59,[1]测算表!AA:AA,[1]测算表!AG:AG,,0,1) -> 1056 | L59: =_xlfn.XLOOKUP(E59,[1]测算表!AA:AA,[1]测算表!AH:AH,,0,1) -> 950 | M59: =_xlfn.XLOOKUP(E59,[1]测算表!AA:AA,[1]测算表!AI:AI,,0,1) -> 897 | N59: =_xlfn.XLOOKUP(E59,[1]测算表!AA:AA,[1]测算表!AJ:AJ,,0,1) -> 807 | O59: =_xlfn.XLOOKUP(E59,[1]测算表!AA:AA,[1]测算表!AK:AK,,0,1) -> 645
A60: 57 | B60: E | C60: 003109030080000 | D60: 经内镜肠道支架置入术 | E60: 310903008 | F60: 经内镜肠道支架置入术 | G60: 取出术参照执行 | H60: 支架 | I60: 次 | K60: =_xlfn.XLOOKUP(E60,[1]测算表!AA:AA,[1]测算表!AG:AG,,0,1) -> 435 | L60: =_xlfn.XLOOKUP(E60,[1]测算表!AA:AA,[1]测算表!AH:AH,,0,1) -> 392 | M60: =_xlfn.XLOOKUP(E60,[1]测算表!AA:AA,[1]测算表!AI:AI,,0,1) -> 370 | N60: =_xlfn.XLOOKUP(E60,[1]测算表!AA:AA,[1]测算表!AJ:AJ,,0,1) -> 332 | O60: =_xlfn.XLOOKUP(E60,[1]测算表!AA:AA,[1]测算表!AK:AK,,0,1) -> 265
A61: 58 | B61: E | C61: 003109050220000 | D61: 胆道支架置入术 | E61: 310905022 | F61: 胆道支架置入术 | H61: 支架 | I61: / | K61: =_xlfn.XLOOKUP(E61,[1]测算表!AA:AA,[1]测算表!AG:AG,,0,1) -> 1056 | L61: =_xlfn.XLOOKUP(E61,[1]测算表!AA:AA,[1]测算表!AH:AH,,0,1) -> 950 | M61: =_xlfn.XLOOKUP(E61,[1]测算表!AA:AA,[1]测算表!AI:AI,,0,1) -> 898 | N61: =_xlfn.XLOOKUP(E61,[1]测算表!AA:AA,[1]测算表!AJ:AJ,,0,1) -> 808 | O61: =_xlfn.XLOOKUP(E61,[1]测算表!AA:AA,[1]测算表!AK:AK,,0,1) -> 646
A62: 59 | B62: E | C62: 003109050200000 | D62: 经内镜胰胆管扩张术＋支架置入术 | E62: 310905020 | F62: 经内镜胰胆管扩张术＋支架置入术 | H62: 支架 | I62: 次 | J62: 双管加收50% | K62: =_xlfn.XLOOKUP(E62,[1]测算表!AA:AA,[1]测算表!AG:AG,,0,1) -> 1440 | L62: =_xlfn.XLOOKUP(E62,[1]测算表!AA:AA,[1]测算表!AH:AH,,0,1) -> 1295 | M62: =_xlfn.XLOOKUP(E62,[1]测算表!AA:AA,[1]测算表!AI:AI,,0,1) -> 1223 | N62: =_xlfn.XLOOKUP(E62,[1]测算表!AA:AA,[1]测算表!AJ:AJ,,0,1) -> 1100 | O62: =_xlfn.XLOOKUP(E62,[1]测算表!AA:AA,[1]测算表!AK:AK,,0,1) -> 880
A63: 60 | B63: E | C63: 003109050130000 | D63: 经胆道镜瘘管取石术 | E63: 310905013 | F63: 经胆道镜瘘管取石术 | G63: 经腹壁胆道造瘘口插入胆道镜，观察肝内胆道树和肝外胆管及十二指肠乳头开口，用取石钳寻找取出结石，或蛔虫、支架、引流管、血块等异物。肝内、外胆道结石取出、经瘘管胆道镜异物取出、经瘘管胆道镜液电碎石术分别参照执行。 | H63: 取石篮、碎石电极 | I63: 次 | K63: =_xlfn.XLOOKUP(E63,[1]测算表!AA:AA,[1]测算表!AG:AG,,0,1) -> 1056 | L63: =_xlfn.XLOOKUP(E63,[1]测算表!AA:AA,[1]测算表!AH:AH,,0,1) -> 950 | M63: =_xlfn.XLOOKUP(E63,[1]测算表!AA:AA,[1]测算表!AI:AI,,0,1) -> 898 | N63: =_xlfn.XLOOKUP(E63,[1]测算表!AA:AA,[1]测算表!AJ:AJ,,0,1) -> 808 | O63: =_xlfn.XLOOKUP(E63,[1]测算表!AA:AA,[1]测算表!AK:AK,,0,1) -> 646
A64: 61 | B64: E | C64: 003109050140000 | D64: 经胆道镜胆道结石取出术 | E64: 310905014 | F64: 经胆道镜胆道结石取出术 | G64: 含插管引流 | H64: 支架、取石篮,光纤 | I64: 次 | K64: =_xlfn.XLOOKUP(E64,[1]测算表!AA:AA,[1]测算表!AG:AG,,0,1) -> 1056 | L64: =_xlfn.XLOOKUP(E64,[1]测算表!AA:AA,[1]测算表!AH:AH,,0,1) -> 950 | M64: =_xlfn.XLOOKUP(E64,[1]测算表!AA:AA,[1]测算表!AI:AI,,0,1) -> 898 | N64: =_xlfn.XLOOKUP(E64,[1]测算表!AA:AA,[1]测算表!AJ:AJ,,0,1) -> 808 | O64: =_xlfn.XLOOKUP(E64,[1]测算表!AA:AA,[1]测算表!AK:AK,,0,1) -> 646
A65: 62 | B65: E | C65: 003109050150000 | D65: 经皮胆囊超声碎石取石术 | E65: 310905015 | F65: 经皮胆囊超声碎石取石术 | G65: 含胆囊穿刺后超声碎石、取出结石；不含超声引导 | I65: 次 | K65: =_xlfn.XLOOKUP(E65,[1]测算表!AA:AA,[1]测算表!AG:AG,,0,1) -> 1056 | L65: =_xlfn.XLOOKUP(E65,[1]测算表!AA:AA,[1]测算表!AH:AH,,0,1) -> 950 | M65: =_xlfn.XLOOKUP(E65,[1]测算表!AA:AA,[1]测算表!AI:AI,,0,1) -> 898 | N65: =_xlfn.XLOOKUP(E65,[1]测算表!AA:AA,[1]测算表!AJ:AJ,,0,1) -> 808 | O65: =_xlfn.XLOOKUP(E65,[1]测算表!AA:AA,[1]测算表!AK:AK,,0,1) -> 646
A66: 63 | B66: E | C66: 003109050160000 | D66: 经皮经肝胆道镜取石术 | E66: 310905016 | F66: 经皮经肝胆道镜取石术 | H66: 支架、取石篮 | I66: 次 | K66: =_xlfn.XLOOKUP(E66,[1]测算表!AA:AA,[1]测算表!AG:AG,,0,1) -> 1056 | L66: =_xlfn.XLOOKUP(E66,[1]测算表!AA:AA,[1]测算表!AH:AH,,0,1) -> 950 | M66: =_xlfn.XLOOKUP(E66,[1]测算表!AA:AA,[1]测算表!AI:AI,,0,1) -> 898 | N66: =_xlfn.XLOOKUP(E66,[1]测算表!AA:AA,[1]测算表!AJ:AJ,,0,1) -> 808 | O66: =_xlfn.XLOOKUP(E66,[1]测算表!AA:AA,[1]测算表!AK:AK,,0,1) -> 646
A67: 64 | B67: G | C67: 003310060150000 | D67: 经内镜奥狄氏括约肌切开取石术(ECT) | E67: 331006015 | F67: 经内镜奥狄氏括约肌切开取石术(ECT) | G67: 取蛔虫参照执行。 | H67: 取石篮、一次性切开刀 | I67: 次 | K67: =_xlfn.XLOOKUP(E67,[1]测算表!AA:AA,[1]测算表!AG:AG,,0,1) -> 1950 | L67: =_xlfn.XLOOKUP(E67,[1]测算表!AA:AA,[1]测算表!AH:AH,,0,1) -> 1755 | M67: =_xlfn.XLOOKUP(E67,[1]测算表!AA:AA,[1]测算表!AI:AI,,0,1) -> 1657 | N67: =_xlfn.XLOOKUP(E67,[1]测算表!AA:AA,[1]测算表!AJ:AJ,,0,1) -> 1491 | O67: =_xlfn.XLOOKUP(E67,[1]测算表!AA:AA,[1]测算表!AK:AK,,0,1) -> 1192
A68: 65 | B68: G | C68: 003310060160000 | D68: 经内镜奥狄氏括约肌切开胰管取石术 | E68: 331006016 | F68: 经内镜奥狄氏括约肌切开胰管取石术 | I68: 次 | J68: △ | K68: =_xlfn.XLOOKUP(E68,[1]测算表!AA:AA,[1]测算表!AG:AG,,0,1) -> 1902 | L68: =_xlfn.XLOOKUP(E68,[1]测算表!AA:AA,[1]测算表!AH:AH,,0,1) -> 1711 | M68: =_xlfn.XLOOKUP(E68,[1]测算表!AA:AA,[1]测算表!AI:AI,,0,1) -> 1616 | N68: =_xlfn.XLOOKUP(E68,[1]测算表!AA:AA,[1]测算表!AJ:AJ,,0,1) -> 1444 | O68: =_xlfn.XLOOKUP(E68,[1]测算表!AA:AA,[1]测算表!AK:AK,,0,1) -> 1155
A69: 66 | B69: G | C69: 003310060140000 | D69: 经十二指肠奥狄氏括约肌切开成形术 | E69: 331006014 | F69: 经十二指肠奥狄氏括约肌切开成形术 | G69: 十二指肠乳头括约肌切开术参照执行 | I69: 次 | J69: △ | K69: =_xlfn.XLOOKUP(E69,[1]测算表!AA:AA,[1]测算表!AG:AG,,0,1) -> 1494 | L69: =_xlfn.XLOOKUP(E69,[1]测算表!AA:AA,[1]测算表!AH:AH,,0,1) -> 1344 | M69: =_xlfn.XLOOKUP(E69,[1]测算表!AA:AA,[1]测算表!AI:AI,,0,1) -> 1269 | N69: =_xlfn.XLOOKUP(E69,[1]测算表!AA:AA,[1]测算表!AJ:AJ,,0,1) -> 1142 | O69: =_xlfn.XLOOKUP(E69,[1]测算表!AA:AA,[1]测算表!AK:AK,,0,1) -> 912
A70: 67 | B70: E | C70: 003109050250000 | D70: 消化道造瘘管换管术 | E70: 310905025 | F70: 消化道造瘘管换管术 | G70: 胃、胆道、空肠造瘘换管术分别参照执行 | H70: 一次性造瘘管 | I70: / | K70: =_xlfn.XLOOKUP(E70,[1]测算表!AA:AA,[1]测算表!AG:AG,,0,1) -> 74 | L70: =_xlfn.XLOOKUP(E70,[1]测算表!AA:AA,[1]测算表!AH:AH,,0,1) -> 66 | M70: =_xlfn.XLOOKUP(E70,[1]测算表!AA:AA,[1]测算表!AI:AI,,0,1) -> 63 | N70: =_xlfn.XLOOKUP(E70,[1]测算表!AA:AA,[1]测算表!AJ:AJ,,0,1) -> 56 | O70: =_xlfn.XLOOKUP(E70,[1]测算表!AA:AA,[1]测算表!AK:AK,,0,1) -> 44
A71: 68 | B71: G | C71: 003310010040000 | D71: 食管良性肿物切除术 | E71: 331001004 | F71: 食管良性肿物切除术 | G71: 含肿瘤局部切除。不含肿瘤食管切除胃食管吻合术 | I71: 次 | J71: △ | K71: =_xlfn.XLOOKUP(E71,[1]测算表!AA:AA,[1]测算表!AG:AG,,0,1) -> 1630 | L71: =_xlfn.XLOOKUP(E71,[1]测算表!AA:AA,[1]测算表!AH:AH,,0,1) -> 1467 | M71: =_xlfn.XLOOKUP(E71,[1]测算表!AA:AA,[1]测算表!AI:AI,,0,1) -> 1385 | N71: =_xlfn.XLOOKUP(E71,[1]测算表!AA:AA,[1]测算表!AJ:AJ,,0,1) -> 1246 | O71: =_xlfn.XLOOKUP(E71,[1]测算表!AA:AA,[1]测算表!AK:AK,,0,1) -> 996
A72: 69 | B72: G | C72: 003310010050000 | D72: 先天性食管囊肿切除术 | E72: 331001005 | F72: 先天性食管囊肿切除术 | I72: 次 | J72: △ | K72: =_xlfn.XLOOKUP(E72,[1]测算表!AA:AA,[1]测算表!AG:AG,,0,1) -> 1630 | L72: =_xlfn.XLOOKUP(E72,[1]测算表!AA:AA,[1]测算表!AH:AH,,0,1) -> 1466 | M72: =_xlfn.XLOOKUP(E72,[1]测算表!AA:AA,[1]测算表!AI:AI,,0,1) -> 1385 | N72: =_xlfn.XLOOKUP(E72,[1]测算表!AA:AA,[1]测算表!AJ:AJ,,0,1) -> 1246 | O72: =_xlfn.XLOOKUP(E72,[1]测算表!AA:AA,[1]测算表!AK:AK,,0,1) -> 996
A73: 70 | B73: G | C73: 003310010060000 | D73: 食管憩室切除术 | E73: 331001006 | F73: 食管憩室切除术 | G73: 内翻术参照执行 | I73: 次 | K73: =_xlfn.XLOOKUP(E73,[1]测算表!AA:AA,[1]测算表!AG:AG,,0,1) -> 1560 | L73: =_xlfn.XLOOKUP(E73,[1]测算表!AA:AA,[1]测算表!AH:AH,,0,1) -> 1403 | M73: =_xlfn.XLOOKUP(E73,[1]测算表!AA:AA,[1]测算表!AI:AI,,0,1) -> 1325 | N73: =_xlfn.XLOOKUP(E73,[1]测算表!AA:AA,[1]测算表!AJ:AJ,,0,1) -> 1192 | O73: =_xlfn.XLOOKUP(E73,[1]测算表!AA:AA,[1]测算表!AK:AK,,0,1) -> 953
A74: 71 | B74: G | C74: 003310010120000 | D74: 颈段食管癌切除+结肠代食管术 | E74: 331001012 | F74: 颈段食管癌切除+结肠代食管术 | G74: 经颈、胸、腹径路手术分别参照执行 | I74: 次 | J74: * | K74: =_xlfn.XLOOKUP(E74,[1]测算表!AA:AA,[1]测算表!AG:AG,,0,1) -> 3580 | L74: =_xlfn.XLOOKUP(E74,[1]测算表!AA:AA,[1]测算表!AH:AH,,0,1) -> 3221 | M74: =_xlfn.XLOOKUP(E74,[1]测算表!AA:AA,[1]测算表!AI:AI,,0,1) -> 3042 | N74: =_xlfn.XLOOKUP(E74,[1]测算表!AA:AA,[1]测算表!AJ:AJ,,0,1) -> 2737 | O74: =_xlfn.XLOOKUP(E74,[1]测算表!AA:AA,[1]测算表!AK:AK,,0,1) -> 2189
A75: 72 | B75: G | C75: 003310010130000 | D75: 颈段食管癌切除+颈部皮瓣食管再造术 | E75: 331001013 | F75: 颈段食管癌切除+颈部皮瓣食管再造术 | I75: 次 | J75: * | K75: =_xlfn.XLOOKUP(E75,[1]测算表!AA:AA,[1]测算表!AG:AG,,0,1) -> 3891 | L75: =_xlfn.XLOOKUP(E75,[1]测算表!AA:AA,[1]测算表!AH:AH,,0,1) -> 3501 | M75: =_xlfn.XLOOKUP(E75,[1]测算表!AA:AA,[1]测算表!AI:AI,,0,1) -> 3307 | N75: =_xlfn.XLOOKUP(E75,[1]测算表!AA:AA,[1]测算表!AJ:AJ,,0,1) -> 2976 | O75: =_xlfn.XLOOKUP(E75,[1]测算表!AA:AA,[1]测算表!AK:AK,,0,1) -> 2380
A76: 73 | B76: G | C76: 003310010140000 | D76: 食管癌根治+结肠代食管术 | E76: 331001014 | F76: 食管癌根治+结肠代食管术 | I76: 次 | J76: * | K76: =_xlfn.XLOOKUP(E76,[1]测算表!AA:AA,[1]测算表!AG:AG,,0,1) -> 3891 | L76: =_xlfn.XLOOKUP(E76,[1]测算表!AA:AA,[1]测算表!AH:AH,,0,1) -> 3501 | M76: =_xlfn.XLOOKUP(E76,[1]测算表!AA:AA,[1]测算表!AI:AI,,0,1) -> 3307 | N76: =_xlfn.XLOOKUP(E76,[1]测算表!AA:AA,[1]测算表!AJ:AJ,,0,1) -> 2976 | O76: =_xlfn.XLOOKUP(E76,[1]测算表!AA:AA,[1]测算表!AK:AK,,0,1) -> 2380
A77: 74 | B77: G | C77: 003310010180000 | D77: 食管再造术 | E77: 331001018 | F77: 食管再造术 | G77: 胃、肠代食管等分别参照执行 | I77: 次 | J77: * | K77: =_xlfn.XLOOKUP(E77,[1]测算表!AA:AA,[1]测算表!AG:AG,,0,1) -> 3891 | L77: =_xlfn.XLOOKUP(E77,[1]测算表!AA:AA,[1]测算表!AH:AH,,0,1) -> 3501 | M77: =_xlfn.XLOOKUP(E77,[1]测算表!AA:AA,[1]测算表!AI:AI,,0,1) -> 3307 | N77: =_xlfn.XLOOKUP(E77,[1]测算表!AA:AA,[1]测算表!AJ:AJ,,0,1) -> 2976 | O77: =_xlfn.XLOOKUP(E77,[1]测算表!AA:AA,[1]测算表!AK:AK,,0,1) -> 2380
A78: 75 | B78: G | C78: 003310010150000 | D78: 颈段食管切除术 | E78: 331001015 | F78: 颈段食管切除术 | I78: 次 | J78: * | K78: =_xlfn.XLOOKUP(E78,[1]测算表!AA:AA,[1]测算表!AG:AG,,0,1) -> 3112 | L78: =_xlfn.XLOOKUP(E78,[1]测算表!AA:AA,[1]测算表!AH:AH,,0,1) -> 2800 | M78: =_xlfn.XLOOKUP(E78,[1]测算表!AA:AA,[1]测算表!AI:AI,,0,1) -> 2645 | N78: =_xlfn.XLOOKUP(E78,[1]测算表!AA:AA,[1]测算表!AJ:AJ,,0,1) -> 2380 | O78: =_xlfn.XLOOKUP(E78,[1]测算表!AA:AA,[1]测算表!AK:AK,,0,1) -> 1903
A79: 76 | B79: G | C79: 003310010110000 | D79: 食管癌根治术 | E79: 331001011 | F79: 食管癌根治术 | G79: 胸内胃食管吻合(主动脉弓下，弓上胸顶部吻合)及颈部吻合术分别参照执行 | I79: 次 | J79: * | K79: =_xlfn.XLOOKUP(E79,[1]测算表!AA:AA,[1]测算表!AG:AG,,0,1) -> 3891 | L79: =_xlfn.XLOOKUP(E79,[1]测算表!AA:AA,[1]测算表!AH:AH,,0,1) -> 3502 | M79: =_xlfn.XLOOKUP(E79,[1]测算表!AA:AA,[1]测算表!AI:AI,,0,1) -> 3307 | N79: =_xlfn.XLOOKUP(E79,[1]测算表!AA:AA,[1]测算表!AJ:AJ,,0,1) -> 2976 | O79: =_xlfn.XLOOKUP(E79,[1]测算表!AA:AA,[1]测算表!AK:AK,,0,1) -> 2380
A80: 77 | B80: G | C80: 003310010230000 | D80: 贲门癌扩大根治术 | E80: 331001023 | F80: 贲门癌扩大根治术 | G80: 含全胃、脾、胰尾切除、食管-空肠吻合术 | I80: 次 | J80: * | K80: =_xlfn.XLOOKUP(E80,[1]测算表!AA:AA,[1]测算表!AG:AG,,0,1) -> 4668 | L80: =_xlfn.XLOOKUP(E80,[1]测算表!AA:AA,[1]测算表!AH:AH,,0,1) -> 4200 | M80: =_xlfn.XLOOKUP(E80,[1]测算表!AA:AA,[1]测算表!AI:AI,,0,1) -> 3967 | N80: =_xlfn.XLOOKUP(E80,[1]测算表!AA:AA,[1]测算表!AJ:AJ,,0,1) -> 3570 | O80: =_xlfn.XLOOKUP(E80,[1]测算表!AA:AA,[1]测算表!AK:AK,,0,1) -> 2855
A81: 78 | B81: G | C81: 003310010220000 | D81: 贲门癌切除术 | E81: 331001022 | F81: 贲门癌切除术 | G81: 含胃食管弓下吻合术 | I81: 次 | J81: * | K81: =_xlfn.XLOOKUP(E81,[1]测算表!AA:AA,[1]测算表!AG:AG,,0,1) -> 3891 | L81: =_xlfn.XLOOKUP(E81,[1]测算表!AA:AA,[1]测算表!AH:AH,,0,1) -> 3501 | M81: =_xlfn.XLOOKUP(E81,[1]测算表!AA:AA,[1]测算表!AI:AI,,0,1) -> 3307 | N81: =_xlfn.XLOOKUP(E81,[1]测算表!AA:AA,[1]测算表!AJ:AJ,,0,1) -> 2976 | O81: =_xlfn.XLOOKUP(E81,[1]测算表!AA:AA,[1]测算表!AK:AK,,0,1) -> 2380
A82: 79 | B82: G | C82: 003310010200000 | D82: 游离空肠代食管术 | E82: 331001020 | F82: 游离空肠代食管术 | G82: 含微血管吻合术；游离空肠移植代下咽术参照执行 | I82: 次 | J82: * | K82: =_xlfn.XLOOKUP(E82,[1]测算表!AA:AA,[1]测算表!AG:AG,,0,1) -> 1556 | L82: =_xlfn.XLOOKUP(E82,[1]测算表!AA:AA,[1]测算表!AH:AH,,0,1) -> 1400 | M82: =_xlfn.XLOOKUP(E82,[1]测算表!AA:AA,[1]测算表!AI:AI,,0,1) -> 1322 | N82: =_xlfn.XLOOKUP(E82,[1]测算表!AA:AA,[1]测算表!AJ:AJ,,0,1) -> 1189 | O82: =_xlfn.XLOOKUP(E82,[1]测算表!AA:AA,[1]测算表!AK:AK,,0,1) -> 950
A83: 80 | B83: G | C83: 003307010160000 | D83: 全喉全下咽全食管切除+全胃上提修复术 | E83: 330701016 | F83: 全喉全下咽全食管切除+全胃上提修复术 | I83: 次 | J83: * | K83: =_xlfn.XLOOKUP(E83,[1]测算表!AA:AA,[1]测算表!AG:AG,,0,1) -> 3112 | L83: =_xlfn.XLOOKUP(E83,[1]测算表!AA:AA,[1]测算表!AH:AH,,0,1) -> 2800 | M83: =_xlfn.XLOOKUP(E83,[1]测算表!AA:AA,[1]测算表!AI:AI,,0,1) -> 2645 | N83: =_xlfn.XLOOKUP(E83,[1]测算表!AA:AA,[1]测算表!AJ:AJ,,0,1) -> 2380 | O83: =_xlfn.XLOOKUP(E83,[1]测算表!AA:AA,[1]测算表!AK:AK,,0,1) -> 1903
A84: 81 | B84: G | C84: 003310010010000 | D84: 颈侧切开食道异物取出术 | E84: 331001001 | F84: 颈侧切开食道异物取出术 | I84: 次 | J84: △ | K84: =_xlfn.XLOOKUP(E84,[1]测算表!AA:AA,[1]测算表!AG:AG,,0,1) -> 1087 | L84: =_xlfn.XLOOKUP(E84,[1]测算表!AA:AA,[1]测算表!AH:AH,,0,1) -> 978 | M84: =_xlfn.XLOOKUP(E84,[1]测算表!AA:AA,[1]测算表!AI:AI,,0,1) -> 923 | N84: =_xlfn.XLOOKUP(E84,[1]测算表!AA:AA,[1]测算表!AJ:AJ,,0,1) -> 830 | O84: =_xlfn.XLOOKUP(E84,[1]测算表!AA:AA,[1]测算表!AK:AK,,0,1) -> 664
A85: 82 | B85: G | C85: 003310010070000 | D85: 食管狭窄切除吻合术 | E85: 331001007 | F85: 食管狭窄切除吻合术 | G85: 食管蹼切除术参照执行 | I85: 次 | J85: △ | K85: =_xlfn.XLOOKUP(E85,[1]测算表!AA:AA,[1]测算表!AG:AG,,0,1) -> 1630 | L85: =_xlfn.XLOOKUP(E85,[1]测算表!AA:AA,[1]测算表!AH:AH,,0,1) -> 1466 | M85: =_xlfn.XLOOKUP(E85,[1]测算表!AA:AA,[1]测算表!AI:AI,,0,1) -> 1385 | N85: =_xlfn.XLOOKUP(E85,[1]测算表!AA:AA,[1]测算表!AJ:AJ,,0,1) -> 1246 | O85: =_xlfn.XLOOKUP(E85,[1]测算表!AA:AA,[1]测算表!AK:AK,,0,1) -> 996
A86: 83 | B86: G | C86: 003310010080000 | D86: 下咽颈段食管狭窄切除及颈段食管再造术 | E86: 331001008 | F86: 下咽颈段食管狭窄切除及颈段食管再造术 | I86: 次 | J86: * | K86: =_xlfn.XLOOKUP(E86,[1]测算表!AA:AA,[1]测算表!AG:AG,,0,1) -> 2335 | L86: =_xlfn.XLOOKUP(E86,[1]测算表!AA:AA,[1]测算表!AH:AH,,0,1) -> 2101 | M86: =_xlfn.XLOOKUP(E86,[1]测算表!AA:AA,[1]测算表!AI:AI,,0,1) -> 1984 | N86: =_xlfn.XLOOKUP(E86,[1]测算表!AA:AA,[1]测算表!AJ:AJ,,0,1) -> 1785 | O86: =_xlfn.XLOOKUP(E86,[1]测算表!AA:AA,[1]测算表!AK:AK,,0,1) -> 1427
A87: 84 | B87: G | C87: 003310010100000 | D87: 先天性食管闭锁经胸膜外吻合术 | E87: 331001010 | F87: 先天性食管闭锁经胸膜外吻合术 | G87: 含食管气管瘘修补。不含胃造瘘术 | H87: 支架 | I87: 次 | J87: * | K87: =_xlfn.XLOOKUP(E87,[1]测算表!AA:AA,[1]测算表!AG:AG,,0,1) -> 3112 | L87: =_xlfn.XLOOKUP(E87,[1]测算表!AA:AA,[1]测算表!AH:AH,,0,1) -> 2800 | M87: =_xlfn.XLOOKUP(E87,[1]测算表!AA:AA,[1]测算表!AI:AI,,0,1) -> 2645 | N87: =_xlfn.XLOOKUP(E87,[1]测算表!AA:AA,[1]测算表!AJ:AJ,,0,1) -> 2380 | O87: =_xlfn.XLOOKUP(E87,[1]测算表!AA:AA,[1]测算表!AK:AK,,0,1) -> 1903
A88: 85 | B88: G | C88: 003310010160000 | D88: 食管胃吻合口狭窄切开成形术 | E88: 331001016 | F88: 食管胃吻合口狭窄切开成形术 | G88: 狭窄局部切开缝合或再吻合术分别参照执行 | I88: 次 | K88: =_xlfn.XLOOKUP(E88,[1]测算表!AA:AA,[1]测算表!AG:AG,,0,1) -> 未定 | L88: =_xlfn.XLOOKUP(E88,[1]测算表!AA:AA,[1]测算表!AH:AH,,0,1) -> 未定 | M88: =_xlfn.XLOOKUP(E88,[1]测算表!AA:AA,[1]测算表!AI:AI,,0,1) -> 未定 | N88: =_xlfn.XLOOKUP(E88,[1]测算表!AA:AA,[1]测算表!AJ:AJ,,0,1) -> 未定 | O88: =_xlfn.XLOOKUP(E88,[1]测算表!AA:AA,[1]测算表!AK:AK,,0,1) -> 未定
A89: 86 | B89: G | C89: 003310010170000 | D89: 食管横断吻合术 | E89: 331001017 | F89: 食管横断吻合术 | G89: 经网膜静脉门静脉测压术、胃冠状静脉结扎术分别参照执行。不含脾切除术、幽门成形术 | I89: 次 | K89: =_xlfn.XLOOKUP(E89,[1]测算表!AA:AA,[1]测算表!AG:AG,,0,1) -> 2331 | L89: =_xlfn.XLOOKUP(E89,[1]测算表!AA:AA,[1]测算表!AH:AH,,0,1) -> 2098 | M89: =_xlfn.XLOOKUP(E89,[1]测算表!AA:AA,[1]测算表!AI:AI,,0,1) -> 1981 | N89: =_xlfn.XLOOKUP(E89,[1]测算表!AA:AA,[1]测算表!AJ:AJ,,0,1) -> 1783 | O89: =_xlfn.XLOOKUP(E89,[1]测算表!AA:AA,[1]测算表!AK:AK,,0,1) -> 1427
A90: 87 | B90: G | C90: 003310010090000 | D90: 食管闭锁造瘘术 | E90: 331001009 | F90: 食管闭锁造瘘术 | G90: 食管颈段造瘘、胃造瘘术分别参照执行 | H90: 特殊胃造瘘套管 | I90: 次 | K90: =_xlfn.XLOOKUP(E90,[1]测算表!AA:AA,[1]测算表!AG:AG,,0,1) -> 2320 | L90: =_xlfn.XLOOKUP(E90,[1]测算表!AA:AA,[1]测算表!AH:AH,,0,1) -> 2088 | M90: =_xlfn.XLOOKUP(E90,[1]测算表!AA:AA,[1]测算表!AI:AI,,0,1) -> 1972 | N90: =_xlfn.XLOOKUP(E90,[1]测算表!AA:AA,[1]测算表!AJ:AJ,,0,1) -> 1775 | O90: =_xlfn.XLOOKUP(E90,[1]测算表!AA:AA,[1]测算表!AK:AK,,0,1) -> 1420
A91: 88 | B91: G | C91: 003310010020000 | D91: 食管破裂修补术 | E91: 331001002 | F91: 食管破裂修补术 | G91: 直接缝合修补或利用其他组织修补分别参照执行 | I91: 次 | J91: △ | K91: =_xlfn.XLOOKUP(E91,[1]测算表!AA:AA,[1]测算表!AG:AG,,0,1) -> 1630 | L91: =_xlfn.XLOOKUP(E91,[1]测算表!AA:AA,[1]测算表!AH:AH,,0,1) -> 1466 | M91: =_xlfn.XLOOKUP(E91,[1]测算表!AA:AA,[1]测算表!AI:AI,,0,1) -> 1386 | N91: =_xlfn.XLOOKUP(E91,[1]测算表!AA:AA,[1]测算表!AJ:AJ,,0,1) -> 1247 | O91: =_xlfn.XLOOKUP(E91,[1]测算表!AA:AA,[1]测算表!AK:AK,,0,1) -> 996
A92: 89 | B92: G | C92: 003310010030000 | D92: 食管瘘清创术 | E92: 331001003 | F92: 食管瘘清创术 | G92: 填堵术参照执行 | I92: 次 | J92: △ | K92: =_xlfn.XLOOKUP(E92,[1]测算表!AA:AA,[1]测算表!AG:AG,,0,1) -> 1630 | L92: =_xlfn.XLOOKUP(E92,[1]测算表!AA:AA,[1]测算表!AH:AH,,0,1) -> 1466 | M92: =_xlfn.XLOOKUP(E92,[1]测算表!AA:AA,[1]测算表!AI:AI,,0,1) -> 1385 | N92: =_xlfn.XLOOKUP(E92,[1]测算表!AA:AA,[1]测算表!AJ:AJ,,0,1) -> 1246 | O92: =_xlfn.XLOOKUP(E92,[1]测算表!AA:AA,[1]测算表!AK:AK,,0,1) -> 996
A93: 90 | B93: G | C93: 003310020010000 | D93: 胃肠切开取异物 | E93: 331002001 | F93: 胃肠切开取异物 | G93: 局部肿瘤切除参照执行 | I93: 次 | K93: =_xlfn.XLOOKUP(E93,[1]测算表!AA:AA,[1]测算表!AG:AG,,0,1) -> 1300 | L93: =_xlfn.XLOOKUP(E93,[1]测算表!AA:AA,[1]测算表!AH:AH,,0,1) -> 1170 | M93: =_xlfn.XLOOKUP(E93,[1]测算表!AA:AA,[1]测算表!AI:AI,,0,1) -> 1105 | N93: =_xlfn.XLOOKUP(E93,[1]测算表!AA:AA,[1]测算表!AJ:AJ,,0,1) -> 995 | O93: =_xlfn.XLOOKUP(E93,[1]测算表!AA:AA,[1]测算表!AK:AK,,0,1) -> 795
A94: 91 | B94: G | C94: 003310020030000 | D94: 近端胃大部切除术 | E94: 331002003 | F94: 近端胃大部切除术 | I94: 次 | J94: △ | K94: =_xlfn.XLOOKUP(E94,[1]测算表!AA:AA,[1]测算表!AG:AG,,0,1) -> 2445 | L94: =_xlfn.XLOOKUP(E94,[1]测算表!AA:AA,[1]测算表!AH:AH,,0,1) -> 2201 | M94: =_xlfn.XLOOKUP(E94,[1]测算表!AA:AA,[1]测算表!AI:AI,,0,1) -> 2078 | N94: =_xlfn.XLOOKUP(E94,[1]测算表!AA:AA,[1]测算表!AJ:AJ,,0,1) -> 1870 | O94: =_xlfn.XLOOKUP(E94,[1]测算表!AA:AA,[1]测算表!AK:AK,,0,1) -> 1495
A95: 92 | B95: G | C95: 003310020040000 | D95: 远端胃大部切除术 | E95: 331002004 | F95: 远端胃大部切除术 | G95: 胃、十二指肠吻合(BillrothI式)、胃空肠吻合(BillrothⅡ式)或胃—空肠Roux-y型吻合分别参照执行 | I95: 次 | J95: △ | K95: =_xlfn.XLOOKUP(E95,[1]测算表!AA:AA,[1]测算表!AG:AG,,0,1) -> 2038 | L95: =_xlfn.XLOOKUP(E95,[1]测算表!AA:AA,[1]测算表!AH:AH,,0,1) -> 1834 | M95: =_xlfn.XLOOKUP(E95,[1]测算表!AA:AA,[1]测算表!AI:AI,,0,1) -> 1732 | N95: =_xlfn.XLOOKUP(E95,[1]测算表!AA:AA,[1]测算表!AJ:AJ,,0,1) -> 1558 | O95: =_xlfn.XLOOKUP(E95,[1]测算表!AA:AA,[1]测算表!AK:AK,,0,1) -> 1246
A96: 93 | B96: G | C96: 003310020050000 | D96: 胃癌根治术 | E96: 331002005 | F96: 胃癌根治术 | G96: 含保留胃近端与十二指肠或空肠吻合、区域淋巴结清扫。不含联合其他脏器切除 | I96: 次 | J96: * | K96: =_xlfn.XLOOKUP(E96,[1]测算表!AA:AA,[1]测算表!AG:AG,,0,1) -> 3112 | L96: =_xlfn.XLOOKUP(E96,[1]测算表!AA:AA,[1]测算表!AH:AH,,0,1) -> 2801 | M96: =_xlfn.XLOOKUP(E96,[1]测算表!AA:AA,[1]测算表!AI:AI,,0,1) -> 2645 | N96: =_xlfn.XLOOKUP(E96,[1]测算表!AA:AA,[1]测算表!AJ:AJ,,0,1) -> 2380 | O96: =_xlfn.XLOOKUP(E96,[1]测算表!AA:AA,[1]测算表!AK:AK,,0,1) -> 1904
A97: 94 | B97: G | C97: 003310020070000 | D97: 胃癌姑息切除术 | E97: 331002007 | F97: 胃癌姑息切除术 | I97: 次 | J97: △ | K97: =_xlfn.XLOOKUP(E97,[1]测算表!AA:AA,[1]测算表!AG:AG,,0,1) -> 2038 | L97: =_xlfn.XLOOKUP(E97,[1]测算表!AA:AA,[1]测算表!AH:AH,,0,1) -> 1834 | M97: =_xlfn.XLOOKUP(E97,[1]测算表!AA:AA,[1]测算表!AI:AI,,0,1) -> 1732 | N97: =_xlfn.XLOOKUP(E97,[1]测算表!AA:AA,[1]测算表!AJ:AJ,,0,1) -> 1558 | O97: =_xlfn.XLOOKUP(E97,[1]测算表!AA:AA,[1]测算表!AK:AK,,0,1) -> 1245
A98: 95 | B98: G | C98: 003310020060000 | D98: 胃癌扩大根治术 | E98: 331002006 | F98: 胃癌扩大根治术 | H98: 含胃癌根治及联合其他侵及脏器切除 | I98: 次 | J98: * | K98: =_xlfn.XLOOKUP(E98,[1]测算表!AA:AA,[1]测算表!AG:AG,,0,1) -> 3424 | L98: =_xlfn.XLOOKUP(E98,[1]测算表!AA:AA,[1]测算表!AH:AH,,0,1) -> 3081 | M98: =_xlfn.XLOOKUP(E98,[1]测算表!AA:AA,[1]测算表!AI:AI,,0,1) -> 2910 | N98: =_xlfn.XLOOKUP(E98,[1]测算表!AA:AA,[1]测算表!AJ:AJ,,0,1) -> 2618 | O98: =_xlfn.XLOOKUP(E98,[1]测算表!AA:AA,[1]测算表!AK:AK,,0,1) -> 2093
A99: 96 | B99: G | C99: 003310020080000 | D99: 全胃切除术 | E99: 331002008 | F99: 全胃切除术 | G99: 食道空肠吻合(Roux-y型或袢式)、食道—十二指肠吻合、区域淋巴结清扫分别参照执行 | I99: 次 | J99: * | K99: =_xlfn.XLOOKUP(E99,[1]测算表!AA:AA,[1]测算表!AG:AG,,0,1) -> 3112 | L99: =_xlfn.XLOOKUP(E99,[1]测算表!AA:AA,[1]测算表!AH:AH,,0,1) -> 2801 | M99: =_xlfn.XLOOKUP(E99,[1]测算表!AA:AA,[1]测算表!AI:AI,,0,1) -> 2645 | N99: =_xlfn.XLOOKUP(E99,[1]测算表!AA:AA,[1]测算表!AJ:AJ,,0,1) -> 2380 | O99: =_xlfn.XLOOKUP(E99,[1]测算表!AA:AA,[1]测算表!AK:AK,,0,1) -> 1904
A100: 97 | B100: G | C100: 003310020160000 | D100: 胃减容术 | E100: 331002016 | F100: 胃减容术 | H100: 胃减容材料 | I100: 次 | K100: =_xlfn.XLOOKUP(E100,[1]测算表!AA:AA,[1]测算表!AG:AG,,0,1) -> 2571 | L100: =_xlfn.XLOOKUP(E100,[1]测算表!AA:AA,[1]测算表!AH:AH,,0,1) -> 2314 | M100: =_xlfn.XLOOKUP(E100,[1]测算表!AA:AA,[1]测算表!AI:AI,,0,1) -> 2185 | N100: =_xlfn.XLOOKUP(E100,[1]测算表!AA:AA,[1]测算表!AJ:AJ,,0,1) -> 1967 | O100: =_xlfn.XLOOKUP(E100,[1]测算表!AA:AA,[1]测算表!AK:AK,,0,1) -> 1573
...
