Workbook

Sheet 废止表
A1: 附件2-2
A2: 益阳市消化系统类医疗服务价格项目废止表（征求意见稿）
A3: 序号 | B3: 财务分类代码 | C3: 国家项目代码 | D3: 国家项目 名称 | E3: 地方项目代码 | F3: 地方项目名称 | G3: 地方项目内涵 （或章节说明） | H3: 除外内容 | I3: 计价 单位 | J3: 计价说明 | K3: 一类价格（元） | L3: 二类一档价格（元） | M3: 二类二档价格（元） | N3: 三类价格（元） | O3: 基层价格（元）
A4: 1 | B4: D | C4: 003109020020000 | D4: 24小时动态胃酸监测 | E4: 310902002 | F4: 24小时动态胃酸监测 | G4: 含酸监测或碱监测 | I4: 次 | K4: =_xlfn.XLOOKUP(E4,[1]测算表!AA:AA,[1]测算表!AG:AG,,0,1) -> 360 | L4: =_xlfn.XLOOKUP(E4,[1]测算表!AA:AA,[1]测算表!AH:AH,,0,1) -> 323 | M4: =_xlfn.XLOOKUP(E4,[1]测算表!AA:AA,[1]测算表!AI:AI,,0,1) -> 305 | N4: =_xlfn.XLOOKUP(E4,[1]测算表!AA:AA,[1]测算表!AJ:AJ,,0,1) -> 274 | O4: =_xlfn.XLOOKUP(E4,[1]测算表!AA:AA,[1]测算表!AK:AK,,0,1) -> 218
A5: 2 | B5: D | C5: 003109040020000 | D5: 肛门直肠测压 | E5: 310904002 | F5: 肛门直肠测压 | G5: 含直肠5-10cm置气囊、肛门内括约肌置气囊、直肠气囊充气加压、扫描计录曲线、内括约肌松弛反射、肛门内括约肌长度、最大缩窄压、最大耐宽量、最小感应阈测定 | I5: 次 | K5: =_xlfn.XLOOKUP(E5,[1]测算表!AA:AA,[1]测算表!AG:AG,,0,1) -> 120 | L5: =_xlfn.XLOOKUP(E5,[1]测算表!AA:AA,[1]测算表!AH:AH,,0,1) -> 107 | M5: =_xlfn.XLOOKUP(E5,[1]测算表!AA:AA,[1]测算表!AI:AI,,0,1) -> 102 | N5: =_xlfn.XLOOKUP(E5,[1]测算表!AA:AA,[1]测算表!AJ:AJ,,0,1) -> 91 | O5: =_xlfn.XLOOKUP(E5,[1]测算表!AA:AA,[1]测算表!AK:AK,,0,1) -> 72
A6: 3 | B6: D | C6: 003109010010000 | D6: 食管测压 | E6: 310901001 | F6: 食管测压 | G6: 含上、下食管括约肌压力测定、食管蠕动测定、食管及括约肌长度测定、药物激发试验、打印报告；不含动态压力监测。 | I6: 次 | J6: 以全部食管测压计价，部分测压或婴儿吸吮功能检查（含动态监测吸吮压力、吸吮持续时间、吸吮节律、吸吮脉冲数量）减收50%。 | K6: =_xlfn.XLOOKUP(E6,[1]测算表!AA:AA,[1]测算表!AG:AG,,0,1) -> 240 | L6: =_xlfn.XLOOKUP(E6,[1]测算表!AA:AA,[1]测算表!AH:AH,,0,1) -> 215 | M6: =_xlfn.XLOOKUP(E6,[1]测算表!AA:AA,[1]测算表!AI:AI,,0,1) -> 203 | N6: =_xlfn.XLOOKUP(E6,[1]测算表!AA:AA,[1]测算表!AJ:AJ,,0,1) -> 182 | O6: =_xlfn.XLOOKUP(E6,[1]测算表!AA:AA,[1]测算表!AK:AK,,0,1) -> 145
A7: 4 | B7: D | C7: 003109020040000 | D7: 24小时胃肠压力测定 | E7: 310902004 | F7: 24小时胃肠压力测定 | I7: 次 | K7: =_xlfn.XLOOKUP(E7,[1]测算表!AA:AA,[1]测算表!AG:AG,,0,1) -> 247 | L7: =_xlfn.XLOOKUP(E7,[1]测算表!AA:AA,[1]测算表!AH:AH,,0,1) -> 222 | M7: =_xlfn.XLOOKUP(E7,[1]测算表!AA:AA,[1]测算表!AI:AI,,0,1) -> 210 | N7: =_xlfn.XLOOKUP(E7,[1]测算表!AA:AA,[1]测算表!AJ:AJ,,0,1) -> 188 | O7: =_xlfn.XLOOKUP(E7,[1]测算表!AA:AA,[1]测算表!AK:AK,,0,1) -> 149
A8: 5 | B8: D | C8: 003109030020000 | D8: 奥迪氏括约肌压力测定 | E8: 310903002 | F8: 奥迪氏括约肌压力测定 | G8: 含经十二指肠镜置管及括约肌压力胆总管压力测定 | I8: 次 | K8: =_xlfn.XLOOKUP(E8,[1]测算表!AA:AA,[1]测算表!AG:AG,,0,1) -> 未定 | L8: =_xlfn.XLOOKUP(E8,[1]测算表!AA:AA,[1]测算表!AH:AH,,0,1) -> 未定 | M8: =_xlfn.XLOOKUP(E8,[1]测算表!AA:AA,[1]测算表!AI:AI,,0,1) -> 未定 | N8: =_xlfn.XLOOKUP(E8,[1]测算表!AA:AA,[1]测算表!AJ:AJ,,0,1) -> 未定 | O8: =_xlfn.XLOOKUP(E8,[1]测算表!AA:AA,[1]测算表!AK:AK,,0,1) -> 未定
A9: 6 | B9: D | C9: 003109020030000 | D9: 胃幽门十二指肠压力测定 | E9: 310902003 | F9: 胃幽门十二指肠压力测定 | I9: 次 | K9: =_xlfn.XLOOKUP(E9,[1]测算表!AA:AA,[1]测算表!AG:AG,,0,1) -> 148 | L9: =_xlfn.XLOOKUP(E9,[1]测算表!AA:AA,[1]测算表!AH:AH,,0,1) -> 133 | M9: =_xlfn.XLOOKUP(E9,[1]测算表!AA:AA,[1]测算表!AI:AI,,0,1) -> 126 | N9: =_xlfn.XLOOKUP(E9,[1]测算表!AA:AA,[1]测算表!AJ:AJ,,0,1) -> 113 | O9: =_xlfn.XLOOKUP(E9,[1]测算表!AA:AA,[1]测算表!AK:AK,,0,1) -> 89
A10: 7 | B10: D | C10: 003109020010000 | D10: 胃肠电图 | E10: 310902001 | F10: 胃肠电图 | I10: 项 | J10: 动态胃电图加收200元 | K10: =_xlfn.XLOOKUP(E10,[1]测算表!AA:AA,[1]测算表!AG:AG,,0,1) -> 36 | L10: =_xlfn.XLOOKUP(E10,[1]测算表!AA:AA,[1]测算表!AH:AH,,0,1) -> 32 | M10: =_xlfn.XLOOKUP(E10,[1]测算表!AA:AA,[1]测算表!AI:AI,,0,1) -> 30 | N10: =_xlfn.XLOOKUP(E10,[1]测算表!AA:AA,[1]测算表!AJ:AJ,,0,1) -> 26 | O10: =_xlfn.XLOOKUP(E10,[1]测算表!AA:AA,[1]测算表!AK:AK,,0,1) -> 20
A11: 8 | B11: D | C11: 003109040050000 | D11: 肛直肠肌电测量 | E11: 310904005 | F11: 肛直肠肌电测量 | I11: 次 | K11: =_xlfn.XLOOKUP(E11,[1]测算表!AA:AA,[1]测算表!AG:AG,,0,1) -> 未定 | L11: =_xlfn.XLOOKUP(E11,[1]测算表!AA:AA,[1]测算表!AH:AH,,0,1) -> 未定 | M11: =_xlfn.XLOOKUP(E11,[1]测算表!AA:AA,[1]测算表!AI:AI,,0,1) -> 未定 | N11: =_xlfn.XLOOKUP(E11,[1]测算表!AA:AA,[1]测算表!AJ:AJ,,0,1) -> 未定 | O11: =_xlfn.XLOOKUP(E11,[1]测算表!AA:AA,[1]测算表!AK:AK,,0,1) -> 未定
A12: 9 | B12: D | C12: 003106010130000 | D12: 一氧化氮呼气测定 | E12: 310601013 | F12: 呼出气一氧化氮测定 | G12: 患者首先深呼气，然后口含一次性细菌过滤器及一氧化氮过滤器，在呼出气一氧化氮测定仪上深吸气后，以一定呼气流速匀速呼气持续10秒钟，人工报告。 | I12: 次 | K12: =_xlfn.XLOOKUP(E12,[1]测算表!AA:AA,[1]测算表!AG:AG,,0,1) -> 220 | L12: =_xlfn.XLOOKUP(E12,[1]测算表!AA:AA,[1]测算表!AH:AH,,0,1) -> 198 | M12: =_xlfn.XLOOKUP(E12,[1]测算表!AA:AA,[1]测算表!AI:AI,,0,1) -> 187 | N12: =_xlfn.XLOOKUP(E12,[1]测算表!AA:AA,[1]测算表!AJ:AJ,,0,1) -> 168 | O12: =_xlfn.XLOOKUP(E12,[1]测算表!AA:AA,[1]测算表!AK:AK,,0,1) -> 134
A13: 10 | B13: D | C13: 002305000140000 | D13: 14碳呼气试验 | E13: 230500014 | F13: 14碳呼气试验 | I13: 次 | J13: 各类呼气试验参照执行 | K13: =_xlfn.XLOOKUP(E13,[1]测算表!AA:AA,[1]测算表!AG:AG,,0,1) -> 100 | L13: =_xlfn.XLOOKUP(E13,[1]测算表!AA:AA,[1]测算表!AH:AH,,0,1) -> 90 | M13: =_xlfn.XLOOKUP(E13,[1]测算表!AA:AA,[1]测算表!AI:AI,,0,1) -> 85 | N13: =_xlfn.XLOOKUP(E13,[1]测算表!AA:AA,[1]测算表!AJ:AJ,,0,1) -> 76 | O13: =_xlfn.XLOOKUP(E13,[1]测算表!AA:AA,[1]测算表!AK:AK,,0,1) -> 61
A14: 11 | B14: H | C14: 002504030790000 | D14: 13碳尿素呼气试验 | E14: 250403079 | F14: 13碳尿素呼气试验 | I14: 项 | K14: =_xlfn.XLOOKUP(E14,[1]测算表!AA:AA,[1]测算表!AG:AG,,0,1) -> 120 | L14: =_xlfn.XLOOKUP(E14,[1]测算表!AA:AA,[1]测算表!AH:AH,,0,1) -> 108 | M14: =_xlfn.XLOOKUP(E14,[1]测算表!AA:AA,[1]测算表!AI:AI,,0,1) -> 102 | N14: =_xlfn.XLOOKUP(E14,[1]测算表!AA:AA,[1]测算表!AJ:AJ,,0,1) -> 92 | O14: =_xlfn.XLOOKUP(E14,[1]测算表!AA:AA,[1]测算表!AK:AK,,0,1) -> 73
A15: 12 | B15: E | C15: 433109050330000 | D15: 肝功能储备检测 | E15: 310905029 | F15: 肝功能储备检测（ICG-PDD法） | I15: 次 | K15: =_xlfn.XLOOKUP(E15,[1]测算表!AA:AA,[1]测算表!AG:AG,,0,1) -> 192 | L15: =_xlfn.XLOOKUP(E15,[1]测算表!AA:AA,[1]测算表!AH:AH,,0,1) -> 172 | M15: =_xlfn.XLOOKUP(E15,[1]测算表!AA:AA,[1]测算表!AI:AI,,0,1) -> 163 | N15: =_xlfn.XLOOKUP(E15,[1]测算表!AA:AA,[1]测算表!AJ:AJ,,0,1) -> 146 | O15: =_xlfn.XLOOKUP(E15,[1]测算表!AA:AA,[1]测算表!AK:AK,,0,1) -> 116
A16: 13 | B16: D | C16: 433109050470000 | D16: 肠道菌群移植术 | E16: 310905035 | F16: 肠道菌群移植术 | G16: 将健康人粪便中的功能菌群，通过制备等操作后移植到患者胃肠道内，重建新的肠道菌群，实现患者肠道及肠道外疾病的治疗。所定价格涵盖菌群制备、移植及术后评估指导等操作步骤的人力资源和基本物质资源消耗。 | I16: 次 | K16: =_xlfn.XLOOKUP(E16,[1]测算表!AA:AA,[1]测算表!AG:AG,,0,1) -> 6000 | L16: =_xlfn.XLOOKUP(E16,[1]测算表!AA:AA,[1]测算表!AH:AH,,0,1) -> 5100 | M16: =_xlfn.XLOOKUP(E16,[1]测算表!AA:AA,[1]测算表!AI:AI,,0,1) -> 5100 | N16: =_xlfn.XLOOKUP(E16,[1]测算表!AA:AA,[1]测算表!AJ:AJ,,0,1) -> / | O16: =_xlfn.XLOOKUP(E16,[1]测算表!AA:AA,[1]测算表!AK:AK,,0,1) -> /
A17: 14 | B17: E | C17: 003109050010001 | D17: 腹腔穿刺术(放腹水治疗) | E17: 310905002 | F17: 腹水直接回输治疗 | I17: 次 | J17: 超滤回输加收50% | K17: =_xlfn.XLOOKUP(E17,[1]测算表!AA:AA,[1]测算表!AG:AG,,0,1) -> 480 | L17: =_xlfn.XLOOKUP(E17,[1]测算表!AA:AA,[1]测算表!AH:AH,,0,1) -> 431 | M17: =_xlfn.XLOOKUP(E17,[1]测算表!AA:AA,[1]测算表!AI:AI,,0,1) -> 408 | N17: =_xlfn.XLOOKUP(E17,[1]测算表!AA:AA,[1]测算表!AJ:AJ,,0,1) -> 367 | O17: =_xlfn.XLOOKUP(E17,[1]测算表!AA:AA,[1]测算表!AK:AK,,0,1) -> 292
A18: 15 | B18: E | C18: 003109030130000 | D18: 肠套叠充气造影及整复 | E18: 310903013 | F18: 肠套叠充气造影及整复 | G18: 含临床操作及注气设备使用 | I18: / | J18: 6周岁及以下儿童在相应价格基础上加收30%。 | K18: =_xlfn.XLOOKUP(E18,[1]测算表!AA:AA,[1]测算表!AG:AG,,0,1) -> 247 | L18: =_xlfn.XLOOKUP(E18,[1]测算表!AA:AA,[1]测算表!AH:AH,,0,1) -> 222 | M18: =_xlfn.XLOOKUP(E18,[1]测算表!AA:AA,[1]测算表!AI:AI,,0,1) -> 210 | N18: =_xlfn.XLOOKUP(E18,[1]测算表!AA:AA,[1]测算表!AJ:AJ,,0,1) -> 188 | O18: =_xlfn.XLOOKUP(E18,[1]测算表!AA:AA,[1]测算表!AK:AK,,0,1) -> 149
A19: 16 | B19: E | C19: 003109030120000 | D19: 肠套叠手法复位 | E19: 310903012 | F19: 肠套叠手法复位 | G19: 嵌顿疝手法复位参照执行 | I19: 次 | J19: 6周岁及以下儿童在相应价格基础上加收30%。 | K19: =_xlfn.XLOOKUP(E19,[1]测算表!AA:AA,[1]测算表!AG:AG,,0,1) -> 42 | L19: =_xlfn.XLOOKUP(E19,[1]测算表!AA:AA,[1]测算表!AH:AH,,0,1) -> 38 | M19: =_xlfn.XLOOKUP(E19,[1]测算表!AA:AA,[1]测算表!AI:AI,,0,1) -> 36 | N19: =_xlfn.XLOOKUP(E19,[1]测算表!AA:AA,[1]测算表!AJ:AJ,,0,1) -> 32 | O19: =_xlfn.XLOOKUP(E19,[1]测算表!AA:AA,[1]测算表!AK:AK,,0,1) -> 25
A20: 17 | B20: E | C20: 003109030140000 | D20: 胶囊内镜检查 | E20: 310902010 | F20: 胶囊式内窥镜图象诊断 | G20: 含体表定位、传感器置放及拆卸，数据采集、分析，图文报告及光盘刻录。 | H20: 胶囊 | I20: 次 | K20: =_xlfn.XLOOKUP(E20,[1]测算表!AA:AA,[1]测算表!AG:AG,,0,1) -> 2400 | L20: =_xlfn.XLOOKUP(E20,[1]测算表!AA:AA,[1]测算表!AH:AH,,0,1) -> 2160 | M20: =_xlfn.XLOOKUP(E20,[1]测算表!AA:AA,[1]测算表!AI:AI,,0,1) -> 2040 | N20: =_xlfn.XLOOKUP(E20,[1]测算表!AA:AA,[1]测算表!AJ:AJ,,0,1) -> 1835 | O20: =_xlfn.XLOOKUP(E20,[1]测算表!AA:AA,[1]测算表!AK:AK,,0,1) -> 1468
A21: 18 | B21: D | C21: 003109010030000 | D21: 硬性食管镜检查 | E21: 310901003 | F21: 硬性食管镜检查 | I21: 次 | K21: =_xlfn.XLOOKUP(E21,[1]测算表!AA:AA,[1]测算表!AG:AG,,0,1) -> 120 | L21: =_xlfn.XLOOKUP(E21,[1]测算表!AA:AA,[1]测算表!AH:AH,,0,1) -> 107 | M21: =_xlfn.XLOOKUP(E21,[1]测算表!AA:AA,[1]测算表!AI:AI,,0,1) -> 102 | N21: =_xlfn.XLOOKUP(E21,[1]测算表!AA:AA,[1]测算表!AJ:AJ,,0,1) -> 91 | O21: =_xlfn.XLOOKUP(E21,[1]测算表!AA:AA,[1]测算表!AK:AK,,0,1) -> 72
A22: 19 | B22: D | C22: 003109010040000 | D22: 纤维食管镜检查 | E22: 310901004 | F22: 纤维食管镜检查 | G22: 含活检 | I22: 次 | J22: 电子镜加收100元 | K22: =_xlfn.XLOOKUP(E22,[1]测算表!AA:AA,[1]测算表!AG:AG,,0,1) -> 60 | L22: =_xlfn.XLOOKUP(E22,[1]测算表!AA:AA,[1]测算表!AH:AH,,0,1) -> 53 | M22: =_xlfn.XLOOKUP(E22,[1]测算表!AA:AA,[1]测算表!AI:AI,,0,1) -> 50 | N22: =_xlfn.XLOOKUP(E22,[1]测算表!AA:AA,[1]测算表!AJ:AJ,,0,1) -> 45 | O22: =_xlfn.XLOOKUP(E22,[1]测算表!AA:AA,[1]测算表!AK:AK,,0,1) -> 35
A23: 20 | B23: D | C23: 003109020050000 | D23: 纤维胃十二指肠镜检查 | E23: 310902005 | F23: 纤维胃十二指肠镜检查 | G23: 含活检、刷检。 | I23: 次 | J23: 电子镜加收100元。 | K23: =_xlfn.XLOOKUP(E23,[1]测算表!AA:AA,[1]测算表!AG:AG,,0,1) -> 72 | L23: =_xlfn.XLOOKUP(E23,[1]测算表!AA:AA,[1]测算表!AH:AH,,0,1) -> 65 | M23: =_xlfn.XLOOKUP(E23,[1]测算表!AA:AA,[1]测算表!AI:AI,,0,1) -> 61 | N23: =_xlfn.XLOOKUP(E23,[1]测算表!AA:AA,[1]测算表!AJ:AJ,,0,1) -> 55 | O23: =_xlfn.XLOOKUP(E23,[1]测算表!AA:AA,[1]测算表!AK:AK,,0,1) -> 43
A24: 21 | B24: D | C24: 003109050060000 | D24: 胆道镜检查 | E24: 310905006 | F24: 胆道镜检查 | G24: 指纤维胆道镜 | I24: 次 | J24: 电子镜加收100元；超选择造影加收30元 | K24: =_xlfn.XLOOKUP(E24,[1]测算表!AA:AA,[1]测算表!AG:AG,,0,1) -> 120 | L24: =_xlfn.XLOOKUP(E24,[1]测算表!AA:AA,[1]测算表!AH:AH,,0,1) -> 108 | M24: =_xlfn.XLOOKUP(E24,[1]测算表!AA:AA,[1]测算表!AI:AI,,0,1) -> 102 | N24: =_xlfn.XLOOKUP(E24,[1]测算表!AA:AA,[1]测算表!AJ:AJ,,0,1) -> 92 | O24: =_xlfn.XLOOKUP(E24,[1]测算表!AA:AA,[1]测算表!AK:AK,,0,1) -> 73
A25: 22 | B25: D | C25: 003109040010000 | D25: 直肠镜检查 | E25: 310904001 | F25: 直肠镜检查 | G25: 含活检；包括直肠取活检术 | I25: 次 | K25: =_xlfn.XLOOKUP(E25,[1]测算表!AA:AA,[1]测算表!AG:AG,,0,1) -> 48 | L25: =_xlfn.XLOOKUP(E25,[1]测算表!AA:AA,[1]测算表!AH:AH,,0,1) -> 43 | M25: =_xlfn.XLOOKUP(E25,[1]测算表!AA:AA,[1]测算表!AI:AI,,0,1) -> 41 | N25: =_xlfn.XLOOKUP(E25,[1]测算表!AA:AA,[1]测算表!AJ:AJ,,0,1) -> 37 | O25: =_xlfn.XLOOKUP(E25,[1]测算表!AA:AA,[1]测算表!AK:AK,,0,1) -> 29
A26: 23 | B26: D | C26: 003109030060000 | D26: 乙状结肠镜检查 | E26: 310903006 | F26: 乙状结肠镜检查 | G26: 含活检 | I26: 次 | J26: 电子镜加收100元 | K26: =_xlfn.XLOOKUP(E26,[1]测算表!AA:AA,[1]测算表!AG:AG,,0,1) -> 72 | L26: =_xlfn.XLOOKUP(E26,[1]测算表!AA:AA,[1]测算表!AH:AH,,0,1) -> 64 | M26: =_xlfn.XLOOKUP(E26,[1]测算表!AA:AA,[1]测算表!AI:AI,,0,1) -> 61 | N26: =_xlfn.XLOOKUP(E26,[1]测算表!AA:AA,[1]测算表!AJ:AJ,,0,1) -> 55 | O26: =_xlfn.XLOOKUP(E26,[1]测算表!AA:AA,[1]测算表!AK:AK,,0,1) -> 42
A27: 24 | B27: D | C27: 003109030050000 | D27: 纤维结肠镜检查 | E27: 310903005 | F27: 纤维结肠镜检查 | G27: 含活检 | I27: 次 | J27: 电子镜加收100元 | K27: =_xlfn.XLOOKUP(E27,[1]测算表!AA:AA,[1]测算表!AG:AG,,0,1) -> 180 | L27: =_xlfn.XLOOKUP(E27,[1]测算表!AA:AA,[1]测算表!AH:AH,,0,1) -> 162 | M27: =_xlfn.XLOOKUP(E27,[1]测算表!AA:AA,[1]测算表!AI:AI,,0,1) -> 153 | N27: =_xlfn.XLOOKUP(E27,[1]测算表!AA:AA,[1]测算表!AJ:AJ,,0,1) -> 138 | O27: =_xlfn.XLOOKUP(E27,[1]测算表!AA:AA,[1]测算表!AK:AK,,0,1) -> 110
A28: 25 | B28: D | C28: 003109030040000 | D28: 小肠镜检查 | E28: 310903004 | F28: 小肠镜检查 | G28: 含活检 | H28: 内镜用外套管、小气囊、一次性活检钳 | I28: 次 | J28: 电子镜加收100元、（单）双气囊小肠镜按每次3600元收取 | K28: =_xlfn.XLOOKUP(E28,[1]测算表!AA:AA,[1]测算表!AG:AG,,0,1) -> 240 | L28: =_xlfn.XLOOKUP(E28,[1]测算表!AA:AA,[1]测算表!AH:AH,,0,1) -> 215 | M28: =_xlfn.XLOOKUP(E28,[1]测算表!AA:AA,[1]测算表!AI:AI,,0,1) -> 203 | N28: =_xlfn.XLOOKUP(E28,[1]测算表!AA:AA,[1]测算表!AJ:AJ,,0,1) -> 182 | O28: =_xlfn.XLOOKUP(E28,[1]测算表!AA:AA,[1]测算表!AK:AK,,0,1) -> 145
A29: 26 | B29: E | C29: 003109020090000 | D29: 超声胃镜检查术 | E29: 310902009 | F29: 超声胃镜检查术 | G29: 超声肠镜检查术参照执行 | I29: 次 | J29: 活检加收150元 | K29: =_xlfn.XLOOKUP(E29,[1]测算表!AA:AA,[1]测算表!AG:AG,,0,1) -> 600 | L29: =_xlfn.XLOOKUP(E29,[1]测算表!AA:AA,[1]测算表!AH:AH,,0,1) -> 540 | M29: =_xlfn.XLOOKUP(E29,[1]测算表!AA:AA,[1]测算表!AI:AI,,0,1) -> 509 | N29: =_xlfn.XLOOKUP(E29,[1]测算表!AA:AA,[1]测算表!AJ:AJ,,0,1) -> 458 | O29: =_xlfn.XLOOKUP(E29,[1]测算表!AA:AA,[1]测算表!AK:AK,,0,1) -> 366
A30: 27 | B30: E | C30: 003109050240000 | D30: 经内镜胆管内超声检查术 | E30: 310905024 | F30: 经内镜胆管内超声检查术 | I30: 次 | K30: =_xlfn.XLOOKUP(E30,[1]测算表!AA:AA,[1]测算表!AG:AG,,0,1) -> 960 | L30: =_xlfn.XLOOKUP(E30,[1]测算表!AA:AA,[1]测算表!AH:AH,,0,1) -> 863 | M30: =_xlfn.XLOOKUP(E30,[1]测算表!AA:AA,[1]测算表!AI:AI,,0,1) -> 815 | N30: =_xlfn.XLOOKUP(E30,[1]测算表!AA:AA,[1]测算表!AJ:AJ,,0,1) -> 733 | O30: =_xlfn.XLOOKUP(E30,[1]测算表!AA:AA,[1]测算表!AK:AK,,0,1) -> 586
A31: 28 | B31: D | C31: 002101030210000 | D31: 经内镜逆行胰胆管造影(ERCP) | E31: 210103021 | F31: 经内镜逆行胰胆管造影(ERCP) | G31: 含临床操作及造影剂过敏试验 | I31: 次 | K31: =_xlfn.XLOOKUP(E31,[1]测算表!AA:AA,[1]测算表!AG:AG,,0,1) -> 400 | L31: =_xlfn.XLOOKUP(E31,[1]测算表!AA:AA,[1]测算表!AH:AH,,0,1) -> 360 | M31: =_xlfn.XLOOKUP(E31,[1]测算表!AA:AA,[1]测算表!AI:AI,,0,1) -> 339 | N31: =_xlfn.XLOOKUP(E31,[1]测算表!AA:AA,[1]测算表!AJ:AJ,,0,1) -> 305 | O31: =_xlfn.XLOOKUP(E31,[1]测算表!AA:AA,[1]测算表!AK:AK,,0,1) -> 244
A32: 29 | B32: D | C32: 002101030220000 | D32: 经皮经肝胆道造影(PTC) | E32: 210103022 | F32: 经皮经肝胆道造影(PTC) | I32: 次 | K32: =_xlfn.XLOOKUP(E32,[1]测算表!AA:AA,[1]测算表!AG:AG,,0,1) -> 180 | L32: =_xlfn.XLOOKUP(E32,[1]测算表!AA:AA,[1]测算表!AH:AH,,0,1) -> 162 | M32: =_xlfn.XLOOKUP(E32,[1]测算表!AA:AA,[1]测算表!AI:AI,,0,1) -> 153 | N32: =_xlfn.XLOOKUP(E32,[1]测算表!AA:AA,[1]测算表!AJ:AJ,,0,1) -> 137 | O32: =_xlfn.XLOOKUP(E32,[1]测算表!AA:AA,[1]测算表!AK:AK,,0,1) -> 109
A33: 30 | B33: E | C33: 003109050100000 | D33: 经皮肝穿胆道引流术(PTCD) | E33: 310905010 | F33: 经皮肝穿胆道引流术(PTCD) | G33: 不含超声定位引导或X线引导 | H33: 支架、导管 | I33: 次 | K33: =_xlfn.XLOOKUP(E33,[1]测算表!AA:AA,[1]测算表!AG:AG,,0,1) -> 396 | L33: =_xlfn.XLOOKUP(E33,[1]测算表!AA:AA,[1]测算表!AH:AH,,0,1) -> 356 | M33: =_xlfn.XLOOKUP(E33,[1]测算表!AA:AA,[1]测算表!AI:AI,,0,1) -> 337 | N33: =_xlfn.XLOOKUP(E33,[1]测算表!AA:AA,[1]测算表!AJ:AJ,,0,1) -> 303 | O33: =_xlfn.XLOOKUP(E33,[1]测算表!AA:AA,[1]测算表!AK:AK,,0,1) -> 242
A34: 31 | B34: E | C34: 003109050170000 | D34: 经皮经肝胆道镜胆管狭窄内瘘术 | E34: 310905017 | F34: 经皮经肝胆道镜胆管狭窄内瘘术 | I34: 次 | K34: =_xlfn.XLOOKUP(E34,[1]测算表!AA:AA,[1]测算表!AG:AG,,0,1) -> 未定 | L34: =_xlfn.XLOOKUP(E34,[1]测算表!AA:AA,[1]测算表!AH:AH,,0,1) -> 未定 | M34: =_xlfn.XLOOKUP(E34,[1]测算表!AA:AA,[1]测算表!AI:AI,,0,1) -> 未定 | N34: =_xlfn.XLOOKUP(E34,[1]测算表!AA:AA,[1]测算表!AJ:AJ,,0,1) -> 未定 | O34: =_xlfn.XLOOKUP(E34,[1]测算表!AA:AA,[1]测算表!AK:AK,,0,1) -> 未定
A35: 32 | B35: E | C35: 003109050120000 | D35: 经内镜鼻胆管引流术(ENBD) | E35: 310905012 | F35: 经内镜鼻胆管引流术（ENBD） | H35: 一次性鼻胆引流管 | I35: 次 | K35: =_xlfn.XLOOKUP(E35,[1]测算表!AA:AA,[1]测算表!AG:AG,,0,1) -> 660 | L35: =_xlfn.XLOOKUP(E35,[1]测算表!AA:AA,[1]测算表!AH:AH,,0,1) -> 594 | M35: =_xlfn.XLOOKUP(E35,[1]测算表!AA:AA,[1]测算表!AI:AI,,0,1) -> 560 | N35: =_xlfn.XLOOKUP(E35,[1]测算表!AA:AA,[1]测算表!AJ:AJ,,0,1) -> 504 | O35: =_xlfn.XLOOKUP(E35,[1]测算表!AA:AA,[1]测算表!AK:AK,,0,1) -> 403
A36: 33 | B36: E | C36: 003109050110000 | D36: 经内镜胆管内引流术＋支架置入术 | E36: 310905011 | F36: 经内镜胆管内引流术＋支架置入术 | G36: 不含X线监视 | H36: 支架 | I36: 次 | K36: =_xlfn.XLOOKUP(E36,[1]测算表!AA:AA,[1]测算表!AG:AG,,0,1) -> 1056 | L36: =_xlfn.XLOOKUP(E36,[1]测算表!AA:AA,[1]测算表!AH:AH,,0,1) -> 950 | M36: =_xlfn.XLOOKUP(E36,[1]测算表!AA:AA,[1]测算表!AI:AI,,0,1) -> 897 | N36: =_xlfn.XLOOKUP(E36,[1]测算表!AA:AA,[1]测算表!AJ:AJ,,0,1) -> 807 | O36: =_xlfn.XLOOKUP(E36,[1]测算表!AA:AA,[1]测算表!AK:AK,,0,1) -> 645
A37: 34 | B37: E | C37: 003109050190000 | D37: 经内镜胰管内引流术 | E37: 310905019 | F37: 经内镜胰管内引流术 | G37: 胰腺囊肿内引流参照执行 | H37: 支架 | I37: 次 | K37: =_xlfn.XLOOKUP(E37,[1]测算表!AA:AA,[1]测算表!AG:AG,,0,1) -> 924 | L37: =_xlfn.XLOOKUP(E37,[1]测算表!AA:AA,[1]测算表!AH:AH,,0,1) -> 831 | M37: =_xlfn.XLOOKUP(E37,[1]测算表!AA:AA,[1]测算表!AI:AI,,0,1) -> 785 | N37: =_xlfn.XLOOKUP(E37,[1]测算表!AA:AA,[1]测算表!AJ:AJ,,0,1) -> 706 | O37: =_xlfn.XLOOKUP(E37,[1]测算表!AA:AA,[1]测算表!AK:AK,,0,1) -> 564
A38: 35 | B38: E | C38: 003109050090000 | D38: 肝囊肿硬化剂注射治疗 | E38: 310905009 | F38: 肝囊肿硬化剂注射治疗 | G38: 不含超声定位引导 | I38: 次 | K38: =_xlfn.XLOOKUP(E38,[1]测算表!AA:AA,[1]测算表!AG:AG,,0,1) -> 158 | L38: =_xlfn.XLOOKUP(E38,[1]测算表!AA:AA,[1]测算表!AH:AH,,0,1) -> 142 | M38: =_xlfn.XLOOKUP(E38,[1]测算表!AA:AA,[1]测算表!AI:AI,,0,1) -> 134 | N38: =_xlfn.XLOOKUP(E38,[1]测算表!AA:AA,[1]测算表!AJ:AJ,,0,1) -> 120 | O38: =_xlfn.XLOOKUP(E38,[1]测算表!AA:AA,[1]测算表!AK:AK,,0,1) -> 96
A39: 36 | B39: E | C39: 003109050050000 | D39: 经皮穿刺肝肿物特殊治疗 | E39: 310905005 | F39: 经皮穿刺肝肿物特殊治疗 | G39: 指药物注射 | I39: 次 | J39: 激光、微波、90钇法加收50元。6周岁及以下儿童在相应价格基础上加收30%。 | K39: =_xlfn.XLOOKUP(E39,[1]测算表!AA:AA,[1]测算表!AG:AG,,0,1) -> 198 | L39: =_xlfn.XLOOKUP(E39,[1]测算表!AA:AA,[1]测算表!AH:AH,,0,1) -> 178 | M39: =_xlfn.XLOOKUP(E39,[1]测算表!AA:AA,[1]测算表!AI:AI,,0,1) -> 168 | N39: =_xlfn.XLOOKUP(E39,[1]测算表!AA:AA,[1]测算表!AJ:AJ,,0,1) -> 151 | O39: =_xlfn.XLOOKUP(E39,[1]测算表!AA:AA,[1]测算表!AK:AK,,0,1) -> 119
A40: 37 | B40: E | C40: 003109050080000 | D40: 膈下脓肿穿刺引流术 | E40: 310905008 | F40: 膈下脓肿穿刺引流术 | G40: 不含超声定位引导，腹腔脓肿引流、胆汁穿刺引流参照执行； | I40: 次 | J40: 6周岁及以下儿童在相应价格基础上加收30%。 | K40: =_xlfn.XLOOKUP(E40,[1]测算表!AA:AA,[1]测算表!AG:AG,,0,1) -> 132 | L40: =_xlfn.XLOOKUP(E40,[1]测算表!AA:AA,[1]测算表!AH:AH,,0,1) -> 118 | M40: =_xlfn.XLOOKUP(E40,[1]测算表!AA:AA,[1]测算表!AI:AI,,0,1) -> 112 | N40: =_xlfn.XLOOKUP(E40,[1]测算表!AA:AA,[1]测算表!AJ:AJ,,0,1) -> 100 | O40: =_xlfn.XLOOKUP(E40,[1]测算表!AA:AA,[1]测算表!AK:AK,,0,1) -> 79
...
