Workbook

Sheet 废止表
A1: 附件2-3
A2: 益阳市药学类医疗服务价格项目废止表（征求意见稿）
A3: 序号 | B3: 财务分类代码 | C3: 国家项目代码 | D3: 国家项目名称 | E3: 地方项目代码 | F3: 地方项目名称 | G3: 地方项目内涵 （或章节说明） | H3: 除外内容 | I3: 计价单位 | J3: 计价说明 | K3: 一类价格（元） | L3: 二类一档 价格（元） | M3: 二类二档 价格（元） | N3: 三类价格（元） | O3: 基层价格（元）
A4: 1 | B4: E | C4: 001204000080000 | D4: 静脉高营养治疗 | E4: 111100004 | F4: 全胃肠外营养药物配置 | G4: 含配置材料 | I4: 组 | J4: 6周岁及以下儿童在相应价格基础上加收30%。 | K4: =VLOOKUP(E4,[1]附件1大目录2024版!$D:$J,7,FALSE) -> 90 | L4: =VLOOKUP(E4,[1]附件1大目录2024版!$D:$K,8,FALSE) -> 81 | M4: =VLOOKUP(E4,[1]附件1大目录2024版!$D:$L,9,FALSE) -> 77 | N4: =VLOOKUP(E4,[1]附件1大目录2024版!$D:$M,10,FALSE) -> 65 | O4: =VLOOKUP(E4,[1]附件1大目录2024版!$D:$N,11,FALSE) -> 52
A5: 2 | B5: E | C5: 001204000130000 | D5: 抗肿瘤化学药物配置 | E5: 111100005 | F5: 细胞毒性药物配置 | G5: 含配置材料 | I5: 组 | J5: 6周岁及以下儿童在相应价格基础上加收30%。 | K5: =VLOOKUP(E5,[1]附件1大目录2024版!$D:$J,7,FALSE) -> 26 | L5: =VLOOKUP(E5,[1]附件1大目录2024版!$D:$K,8,FALSE) -> 23 | M5: =VLOOKUP(E5,[1]附件1大目录2024版!$D:$L,9,FALSE) -> 22 | N5: =VLOOKUP(E5,[1]附件1大目录2024版!$D:$M,10,FALSE) -> 19 | O5: =VLOOKUP(E5,[1]附件1大目录2024版!$D:$N,11,FALSE) -> 15
A6: 3 | B6: E | C6: 431204000150000 | D6: 静脉用药集中调配 | E6: 111100006 | F6: 静脉用药集中调配 | G6: 指在静脉用药调配中心调配药物的费用 | I6: 组 | J6: 药厂已配置好的单瓶药物集中调配不收费 | K6: =VLOOKUP(E6,[1]附件1大目录2024版!$D:$J,7,FALSE) -> 5 | L6: =VLOOKUP(E6,[1]附件1大目录2024版!$D:$K,8,FALSE) -> 5 | M6: =VLOOKUP(E6,[1]附件1大目录2024版!$D:$L,9,FALSE) -> 5 | N6: =VLOOKUP(E6,[1]附件1大目录2024版!$D:$M,10,FALSE) -> 5 | O6: =VLOOKUP(E6,[1]附件1大目录2024版!$D:$N,11,FALSE) -> 5
A7: 4 | B7: H | C7: 002503090050000 | D7: 血清药物浓度测定 | E7: 111100007 | F7: 血清药物浓度测定 | G7: 通过对各类药物血清浓度的测定，为临床诊疗提供参考依据。包括放免法或酶免法。所定价格涵盖标本签收、处理、检测、审核结果、信息录入、发送报告、处理废弃物以及接受临床相关咨询等操作步骤的人力资源和基本物质资源消耗。 | I7: 每种 药物 | J7: 色谱法加收100%，免疫抑制剂药物测定（环孢素A、PK506等）MMM、RFP加收180元。超过3种药物按3种收取。 | K7: =VLOOKUP(E7,[1]附件1大目录2024版!$D:$J,7,FALSE) -> 50 | L7: =VLOOKUP(E7,[1]附件1大目录2024版!$D:$K,8,FALSE) -> 45 | M7: =VLOOKUP(E7,[1]附件1大目录2024版!$D:$L,9,FALSE) -> 43 | N7: =VLOOKUP(E7,[1]附件1大目录2024版!$D:$M,10,FALSE) -> 38 | O7: =VLOOKUP(E7,[1]附件1大目录2024版!$D:$N,11,FALSE) -> 30
A8: 5 | B8: E | C8: 004800000040000 | D8: 人工煎药 | E8: 480000004 | F8: 人工煎药 | I8: 副 | K8: =VLOOKUP(E8,[1]附件1大目录2024版!$D:$J,7,FALSE) -> 10 | L8: =VLOOKUP(E8,[1]附件1大目录2024版!$D:$K,8,FALSE) -> 10 | M8: =VLOOKUP(E8,[1]附件1大目录2024版!$D:$L,9,FALSE) -> 10 | N8: =VLOOKUP(E8,[1]附件1大目录2024版!$D:$M,10,FALSE) -> 10 | O8: =VLOOKUP(E8,[1]附件1大目录2024版!$D:$N,11,FALSE) -> 10
A9: 6 | B9: E | C9: 004800000050000 | D9: 煎药机煎药 | E9: 480000005 | F9: 煎药机煎药 | H9: 药物 | I9: 付（2袋/付） | J9: 膏方煎制费为每料膏剂200元（含配制膏方等人工、燃料、辅料、包装用品等） | K9: =VLOOKUP(E9,[1]附件1大目录2024版!$D:$J,7,FALSE) -> 3 | L9: =VLOOKUP(E9,[1]附件1大目录2024版!$D:$K,8,FALSE) -> 3 | M9: =VLOOKUP(E9,[1]附件1大目录2024版!$D:$L,9,FALSE) -> 3 | N9: =VLOOKUP(E9,[1]附件1大目录2024版!$D:$M,10,FALSE) -> 3 | O9: =VLOOKUP(E9,[1]附件1大目录2024版!$D:$N,11,FALSE) -> 3
